<VRTDataset rasterXSize="1440" rasterYSize="160">
  <SRS dataAxisToSRSAxisMapping="2,1">GEOGCS["WGS 84",DATUM["WGS_1984",SPHEROID["WGS 84",6378137,298.257223563,AUTHORITY["EPSG","7030"]],AUTHORITY["EPSG","6326"]],PRIMEM["Greenwich",0,AUTHORITY["EPSG","8901"]],UNIT["degree",0.0174532925199433,AUTHORITY["EPSG","9122"]],AXIS["Latitude",NORTH],AXIS["Longitude",EAST],AUTHORITY["EPSG","4326"]]</SRS>
  <GeoTransform> -1.2500000000000000e-01,  2.5000000000000000e-01,  0.0000000000000000e+00,  4.9875000000000000e+01,  0.0000000000000000e+00,  2.5000000000000000e-01</GeoTransform>
  <Metadata>
    <MDI key="lat#axis">Y</MDI>
    <MDI key="lat#long_name">latitude</MDI>
    <MDI key="lat#northernmost_latitude">89.75</MDI>
    <MDI key="lat#southernmost_latitude">50</MDI>
    <MDI key="lat#standard_name">latitude</MDI>
    <MDI key="lat#units">degrees_north</MDI>
    <MDI key="lon#axis">X</MDI>
    <MDI key="lon#easternmost_longitude">359.75</MDI>
    <MDI key="lon#long_name">longitude</MDI>
    <MDI key="lon#standard_name">longitude</MDI>
    <MDI key="lon#units">degrees_east</MDI>
    <MDI key="lon#westernmost_longitude">0</MDI>
    <MDI key="NC_GLOBAL#abstract">These CMIP5 model data show interpolated results in Arctic only. Original data were cut and interpolated for internal use of the EU funded project ACCESS.</MDI>
    <MDI key="NC_GLOBAL#activity_type">Model run</MDI>
    <MDI key="NC_GLOBAL#area">Arctic Ocean</MDI>
    <MDI key="NC_GLOBAL#branch_time">53290</MDI>
    <MDI key="NC_GLOBAL#CDI">Climate Data Interface version 1.5.5 (http://code.zmaw.de/projects/cdi)</MDI>
    <MDI key="NC_GLOBAL#CDO">Climate Data Operators version 1.5.5 (http://code.zmaw.de/projects/cdo)</MDI>
    <MDI key="NC_GLOBAL#comment">GFDL experiment name: CM3Z_H1_2006-2300_RCP45_X1
GFDL parent experiment name: CM3Z_D1_1860-2005_AllForc_H1
CMIP5 experiment ID: rcp45
Initial conditions from this experiment(CMIP5 expt 4.1 ) were taken from 01Jan2006 of the historical model experiment CM3Z_D1_1860-2005_AllForc_H1.
Uses time-varying forcings from 1/1/2006 through 2300, including:
1) volcanic aerosols turned off
2) RCP land use data file
3) using updated RCP emission files (v1_21_12_2009)
4) solar flux dataset extends through 2300
This model includes direct and indirect aerosol effects.</MDI>
    <MDI key="NC_GLOBAL#contact">Kathrin.Riemann-Campe@awi.de</MDI>
    <MDI key="NC_GLOBAL#Conventions">CF-1.4</MDI>
    <MDI key="NC_GLOBAL#creation_date">2012-01-12T20:31:30Z</MDI>
    <MDI key="NC_GLOBAL#distribution_statement">Restricted to ACCESS</MDI>
    <MDI key="NC_GLOBAL#easternmost_longitude">180</MDI>
    <MDI key="NC_GLOBAL#experiment">RCP4.5</MDI>
    <MDI key="NC_GLOBAL#experiment_id">rcp45</MDI>
    <MDI key="NC_GLOBAL#forcing">GHG,SA,Oz,LU,Sl,SS,BC,MD,OC (GHG includes CO2, CH4, N2O, CFC11, CFC12, HCFC22, CFC113)</MDI>
    <MDI key="NC_GLOBAL#frequency">mon</MDI>
    <MDI key="NC_GLOBAL#gcmd_keywords">Atmospheric/Ocean Indicators</MDI>
    <MDI key="NC_GLOBAL#gfdl_experiment_name">CM3Z_H1_2006-2300_RCP45_X1</MDI>
    <MDI key="NC_GLOBAL#history">2014-04-01 creation</MDI>
    <MDI key="NC_GLOBAL#initialization_method">1</MDI>
    <MDI key="NC_GLOBAL#institute_id">NOAA GFDL</MDI>
    <MDI key="NC_GLOBAL#institution">AWI</MDI>
    <MDI key="NC_GLOBAL#keywords">Arctic near surface wind</MDI>
    <MDI key="NC_GLOBAL#modeling_realm">atmos</MDI>
    <MDI key="NC_GLOBAL#model_id">GFDL-CM3</MDI>
    <MDI key="NC_GLOBAL#northernmost_latitude">89.75</MDI>
    <MDI key="NC_GLOBAL#parent_experiment_id">historical</MDI>
    <MDI key="NC_GLOBAL#parent_experiment_rip">r1i1p1</MDI>
    <MDI key="NC_GLOBAL#physics_version">1</MDI>
    <MDI key="NC_GLOBAL#PI_name">Kathrin Riemann-Campe</MDI>
    <MDI key="NC_GLOBAL#product">output1</MDI>
    <MDI key="NC_GLOBAL#product_name">ensemble mean monthly mean near surface northward wind</MDI>
    <MDI key="NC_GLOBAL#project_id">CMIP5</MDI>
    <MDI key="NC_GLOBAL#project_name">ACCESS</MDI>
    <MDI key="NC_GLOBAL#realization">1</MDI>
    <MDI key="NC_GLOBAL#references">The GFDL Data Portal (http://nomads.gfdl.noaa.gov/) provides access to NOAA/GFDL's publicly available model input and output data sets. From this web site one can view and download data sets and documentation, including those related to the GFDL coupled models experiments run for the IPCC's 5th Assessment Report and the US CCSP.</MDI>
    <MDI key="NC_GLOBAL#southernmost_latitude">50</MDI>
    <MDI key="NC_GLOBAL#start_date">1950-01-16 00:00:00 UTC</MDI>
    <MDI key="NC_GLOBAL#stop_date">2005-12-16 00:00:00 UTC</MDI>
    <MDI key="NC_GLOBAL#table_id">Table Amon (31 Jan 2011)</MDI>
    <MDI key="NC_GLOBAL#title">NOAA GFDL GFDL-CM3, RCP4.5 (run 1) experiment output for CMIP5 AR5</MDI>
    <MDI key="NC_GLOBAL#topiccategory">Atmosphere</MDI>
    <MDI key="NC_GLOBAL#tracking_id">7a30451e-2132-4153-baf5-633aac29e2ed</MDI>
    <MDI key="NC_GLOBAL#westernmost_longitude">-180</MDI>
    <MDI key="NETCDF_DIM_EXTRA">{time}</MDI>
    <MDI key="NETCDF_DIM_time_DEF">{672,6}</MDI>
    <MDI key="time#axis">T</MDI>
    <MDI key="time#bounds">time_bnds</MDI>
    <MDI key="time#calendar">365_day</MDI>
    <MDI key="time#standard_name">time</MDI>
    <MDI key="time#start_date">1950-01-16 00:00:00 UTC</MDI>
    <MDI key="time#stop_date">2005-12-16 00:00:00 UTC</MDI>
    <MDI key="time#units">days since 1860-01-01 00:00:00</MDI>
    <MDI key="vas#associated_files">baseURL: http://cmip-pcmdi.llnl.gov/CMIP5/dataLocation areacella: areacella_fx_GFDL-CM3_rcp45_r0i0p0.nc</MDI>
    <MDI key="vas#cell_methods">time: mean</MDI>
    <MDI key="vas#interp_method">conserve_order2</MDI>
    <MDI key="vas#long_name">Northward Near-Surface Wind</MDI>
    <MDI key="vas#original_name">v_ref</MDI>
    <MDI key="vas#original_units">m/s</MDI>
    <MDI key="vas#standard_name">northward_wind</MDI>
    <MDI key="vas#units">m s-1</MDI>
    <MDI key="vas#_FillValue">1e+20</MDI>
  </Metadata>
  <VRTRasterBand dataType="Float32" band="1" blockXSize="1440" blockYSize="1">
    <Metadata>
      <MDI key="associated_files">baseURL: http://cmip-pcmdi.llnl.gov/CMIP5/dataLocation areacella: areacella_fx_GFDL-CM3_rcp45_r0i0p0.nc</MDI>
      <MDI key="cell_methods">time: mean</MDI>
      <MDI key="interp_method">conserve_order2</MDI>
      <MDI key="long_name">Northward Near-Surface Wind</MDI>
      <MDI key="NETCDF_DIM_time">39570.5</MDI>
      <MDI key="NETCDF_VARNAME">vas</MDI>
      <MDI key="original_name">v_ref</MDI>
      <MDI key="original_units">m/s</MDI>
      <MDI key="standard_name">northward_wind</MDI>
      <MDI key="units">m s-1</MDI>
      <MDI key="_FillValue">1e+20</MDI>
    </Metadata>
    <NoDataValue>1.00000002004087734e+20</NoDataValue>
    <ComplexSource>
      <SourceFilename relativeToVRT="0">NETCDF:"/lustre/storeB/adc-data/access/awi/atmos025grid/atmos025grid_vas_GFDL-CM3_historical_ensmean_1950-2005_monmean.nc":vas</SourceFilename>
      <SourceBand>221</SourceBand>
      <SourceProperties RasterXSize="1440" RasterYSize="160" DataType="Float32" BlockXSize="1440" BlockYSize="1" />
      <SrcRect xOff="0" yOff="0" xSize="1440" ySize="160" />
      <DstRect xOff="0" yOff="0" xSize="1440" ySize="160" />
      <NODATA>1.00000002004087734e+20</NODATA>
    </ComplexSource>
  </VRTRasterBand>
</VRTDataset>
