<VRTDataset rasterXSize="3601" rasterYSize="716">
  <SRS dataAxisToSRSAxisMapping="2,1">GEOGCS["WGS 84",DATUM["WGS_1984",SPHEROID["WGS 84",6378137,298.257223563,AUTHORITY["EPSG","7030"]],AUTHORITY["EPSG","6326"]],PRIMEM["Greenwich",0,AUTHORITY["EPSG","8901"]],UNIT["degree",0.0174532925199433,AUTHORITY["EPSG","9122"]],AXIS["Latitude",NORTH],AXIS["Longitude",EAST],AUTHORITY["EPSG","4326"]]</SRS>
  <GeoTransform>  9.1071529576360000e+00,  6.8786487000007668e-03,  0.0000000000000000e+00,  8.0879570528892998e+01,  0.0000000000000000e+00, -6.8786486999954377e-03</GeoTransform>
  <Metadata>
    <MDI key="lat#long_name">longitude coordinate</MDI>
    <MDI key="lat#standard_name">longitude</MDI>
    <MDI key="lat#units">degrees_east</MDI>
    <MDI key="lat#_FillValue">nan</MDI>
    <MDI key="lon#long_name">latitude coordinate</MDI>
    <MDI key="lon#standard_name">latitude</MDI>
    <MDI key="lon#units">degrees_north</MDI>
    <MDI key="lon#_FillValue">nan</MDI>
    <MDI key="NC_GLOBAL#Conventions">CF-1.6, ACDD-1.3</MDI>
    <MDI key="NC_GLOBAL#creator_email">skar@norceresearch.no</MDI>
    <MDI key="NC_GLOBAL#creator_institution">NORCE Norwegian Research Centre</MDI>
    <MDI key="NC_GLOBAL#creator_name">Stein Rune Karlsen</MDI>
    <MDI key="NC_GLOBAL#creator_type">person</MDI>
    <MDI key="NC_GLOBAL#creator_url">https://www.norceresearch.no/en/persons/stein-rune-karlsen/2185</MDI>
    <MDI key="NC_GLOBAL#date_created">2023-05-22T12:35:00Z</MDI>
    <MDI key="NC_GLOBAL#geospatial_lat_max">80.8795705289</MDI>
    <MDI key="NC_GLOBAL#geospatial_lat_min">75.9544580597</MDI>
    <MDI key="NC_GLOBAL#geospatial_lon_max">33.8771669263</MDI>
    <MDI key="NC_GLOBAL#geospatial_lon_min">9.10715295764</MDI>
    <MDI key="NC_GLOBAL#history">v.1.0 </MDI>
    <MDI key="NC_GLOBAL#id">https://www.youtube.com/watch?v=kgzSQ7Yso5Y&amp;list=PLkLmgjvctLaSUztTGLh57ZnPrIlC8Kp6S&amp;index=38</MDI>
    <MDI key="NC_GLOBAL#institution">NORCE Norwegian Research Centre</MDI>
    <MDI key="NC_GLOBAL#institution_short_name">NORCE</MDI>
    <MDI key="NC_GLOBAL#keywords">Earth Science &gt; Biosphere &gt; NDVI &gt; plant productivity</MDI>
    <MDI key="NC_GLOBAL#keywords_vocabulary">GCMDSK</MDI>
    <MDI key="NC_GLOBAL#naming_authority">norceresearch.no</MDI>
    <MDI key="NC_GLOBAL#processing level">Extracted and interpolated form two datasets, cloud removal</MDI>
    <MDI key="NC_GLOBAL#project">SIOS InfraNor</MDI>
    <MDI key="NC_GLOBAL#publisher_email">skar@norceresearch.no</MDI>
    <MDI key="NC_GLOBAL#publisher_name">Stein Rune Karlsen</MDI>
    <MDI key="NC_GLOBAL#publisher_url">https://www.norceresearch.no/en/persons/stein-rune-karlsen/2185</MDI>
    <MDI key="NC_GLOBAL#references">https://doi.org/10.3390/rs14246346</MDI>
    <MDI key="NC_GLOBAL#source">MODIS MOD09Q1 and MODIS MOD09A1 data</MDI>
    <MDI key="NC_GLOBAL#Source_Software">Esri ArcGIS</MDI>
    <MDI key="NC_GLOBAL#summary">Daily NDVI form 10 May to 20 September year 2001 for Svalbard. Only areas with summer NDVI &gt; 0.0, other areas has -1.001 in value</MDI>
    <MDI key="NC_GLOBAL#time_coverage_end">2001-09-25T12:00:00Z</MDI>
    <MDI key="NC_GLOBAL#time_coverage_start">2001-05-10T12:00:00Z</MDI>
    <MDI key="NC_GLOBAL#title">NDVI for Svalbard</MDI>
    <MDI key="NDVI#coordinates">lat lon</MDI>
    <MDI key="NDVI#coverage_content_type">coordinate</MDI>
    <MDI key="NDVI#long_name">Normalized Difference Vegetation Index (NDVI)</MDI>
    <MDI key="NDVI#standard_name">normalized_difference_vegetation_index</MDI>
    <MDI key="NDVI#units">1</MDI>
    <MDI key="NETCDF_DIM_EXTRA">{time}</MDI>
    <MDI key="NETCDF_DIM_time_DEF">{134,6}</MDI>
    <MDI key="NETCDF_DIM_time_VALUES">{37021,37022,37023,37024,37025,37026,37027,37028,37029,37030,37031,37032,37033,37034,37035,37036,37037,37038,37039,37040,37041,37042,37043,37044,37045,37046,37047,37048,37049,37050,37051,37052,37053,37054,37055,37056,37057,37058,37059,37060,37061,37062,37063,37064,37065,37066,37067,37068,37069,37070,37071,37072,37073,37074,37075,37076,37077,37078,37079,37080,37081,37082,37083,37084,37085,37086,37087,37088,37089,37090,37091,37092,37093,37094,37095,37096,37097,37098,37099,37100,37101,37102,37103,37104,37105,37106,37107,37108,37109,37110,37111,37112,37113,37114,37115,37116,37117,37118,37119,37120,37121,37122,37123,37124,37125,37126,37127,37128,37129,37130,37131,37132,37133,37134,37135,37136,37137,37138,37139,37140,37141,37142,37143,37144,37145,37146,37147,37148,37149,37150,37151,37152,37153,37154}</MDI>
    <MDI key="time#calendar">proleptic_gregorian</MDI>
    <MDI key="time#long_name">time</MDI>
    <MDI key="time#standard_name">time</MDI>
    <MDI key="time#units">days since 1899-12-30</MDI>
    <MDI key="time#_FillValue">nan</MDI>
  </Metadata>
  <Metadata domain="GEOLOCATION">
    <MDI key="GEOREFERENCING_CONVENTION">PIXEL_CENTER</MDI>
    <MDI key="LINE_OFFSET">0</MDI>
    <MDI key="LINE_STEP">1</MDI>
    <MDI key="PIXEL_OFFSET">0</MDI>
    <MDI key="PIXEL_STEP">1</MDI>
    <MDI key="SRS">GEOGCS["WGS 84",DATUM["WGS_1984",SPHEROID["WGS 84",6378137,298.257223563,AUTHORITY["EPSG","7030"]],AUTHORITY["EPSG","6326"]],PRIMEM["Greenwich",0,AUTHORITY["EPSG","8901"]],UNIT["degree",0.0174532925199433,AUTHORITY["EPSG","9122"]],AXIS["Latitude",NORTH],AXIS["Longitude",EAST],AUTHORITY["EPSG","4326"]]</MDI>
    <MDI key="X_BAND">1</MDI>
    <MDI key="X_DATASET">NETCDF:"/lustre/storeB/adc-data/infranor/norce-ndvi/NDVI_2001.nc":lat</MDI>
    <MDI key="Y_BAND">1</MDI>
    <MDI key="Y_DATASET">NETCDF:"/lustre/storeB/adc-data/infranor/norce-ndvi/NDVI_2001.nc":lon</MDI>
  </Metadata>
  <VRTRasterBand dataType="Float32" band="1" blockXSize="3601" blockYSize="1">
    <Metadata>
      <MDI key="coordinates">lat lon</MDI>
      <MDI key="coverage_content_type">coordinate</MDI>
      <MDI key="long_name">Normalized Difference Vegetation Index (NDVI)</MDI>
      <MDI key="NETCDF_DIM_time">37140</MDI>
      <MDI key="NETCDF_VARNAME">NDVI</MDI>
      <MDI key="standard_name">normalized_difference_vegetation_index</MDI>
      <MDI key="units">1</MDI>
    </Metadata>
    <NoDataValue>9.96920996838686905e+36</NoDataValue>
    <ComplexSource>
      <SourceFilename relativeToVRT="0">NETCDF:"/lustre/storeB/adc-data/infranor/norce-ndvi/NDVI_2001.nc":NDVI</SourceFilename>
      <SourceBand>120</SourceBand>
      <SourceProperties RasterXSize="3601" RasterYSize="716" DataType="Float32" BlockXSize="3601" BlockYSize="1" />
      <SrcRect xOff="0" yOff="0" xSize="3601" ySize="716" />
      <DstRect xOff="0" yOff="0" xSize="3601" ySize="716" />
      <NODATA>9.96920996838686905e+36</NODATA>
    </ComplexSource>
  </VRTRasterBand>
</VRTDataset>
