<VRTDataset rasterXSize="3601" rasterYSize="716">
  <SRS dataAxisToSRSAxisMapping="2,1">GEOGCS["WGS 84",DATUM["WGS_1984",SPHEROID["WGS 84",6378137,298.257223563,AUTHORITY["EPSG","7030"]],AUTHORITY["EPSG","6326"]],PRIMEM["Greenwich",0,AUTHORITY["EPSG","8901"]],UNIT["degree",0.0174532925199433,AUTHORITY["EPSG","9122"]],AXIS["Latitude",NORTH],AXIS["Longitude",EAST],AUTHORITY["EPSG","4326"]]</SRS>
  <GeoTransform>  9.1071529576360000e+00,  6.8786487000007668e-03,  0.0000000000000000e+00,  8.0879570528892998e+01,  0.0000000000000000e+00, -6.8786486999954377e-03</GeoTransform>
  <Metadata>
    <MDI key="lat#long_name">longitude coordinate</MDI>
    <MDI key="lat#standard_name">longitude</MDI>
    <MDI key="lat#units">degrees_east</MDI>
    <MDI key="lat#_FillValue">nan</MDI>
    <MDI key="lon#long_name">latitude coordinate</MDI>
    <MDI key="lon#standard_name">latitude</MDI>
    <MDI key="lon#units">degrees_north</MDI>
    <MDI key="lon#_FillValue">nan</MDI>
    <MDI key="NC_GLOBAL#Conventions">CF-1.6, ACDD-1.3</MDI>
    <MDI key="NC_GLOBAL#creator_email">skar@norceresearch.no</MDI>
    <MDI key="NC_GLOBAL#creator_institution">NORCE Norwegian Research Centre</MDI>
    <MDI key="NC_GLOBAL#creator_name">Stein Rune Karlsen</MDI>
    <MDI key="NC_GLOBAL#creator_type">person</MDI>
    <MDI key="NC_GLOBAL#creator_url">https://www.norceresearch.no/en/persons/stein-rune-karlsen/2185</MDI>
    <MDI key="NC_GLOBAL#date_created">2023-05-22T12:35:00Z</MDI>
    <MDI key="NC_GLOBAL#geospatial_lat_max">80.8795705289</MDI>
    <MDI key="NC_GLOBAL#geospatial_lat_min">75.9544580597</MDI>
    <MDI key="NC_GLOBAL#geospatial_lon_max">33.8771669263</MDI>
    <MDI key="NC_GLOBAL#geospatial_lon_min">9.10715295764</MDI>
    <MDI key="NC_GLOBAL#history">v.1.0 </MDI>
    <MDI key="NC_GLOBAL#id">https://www.youtube.com/watch?v=OyaYnARsIwU&amp;list=PLkLmgjvctLaSUztTGLh57ZnPrIlC8Kp6S&amp;index=34</MDI>
    <MDI key="NC_GLOBAL#institution">NORCE Norwegian Research Centre</MDI>
    <MDI key="NC_GLOBAL#institution_short_name">NORCE</MDI>
    <MDI key="NC_GLOBAL#keywords">Earth Science &gt; Biosphere &gt; NDVI &gt; plant productivity</MDI>
    <MDI key="NC_GLOBAL#keywords_vocabulary">GCMDSK</MDI>
    <MDI key="NC_GLOBAL#naming_authority">norceresearch.no</MDI>
    <MDI key="NC_GLOBAL#processing level">Extracted and interpolated form two datasets, cloud removal</MDI>
    <MDI key="NC_GLOBAL#project">SIOS InfraNor</MDI>
    <MDI key="NC_GLOBAL#publisher_email">skar@norceresearch.no</MDI>
    <MDI key="NC_GLOBAL#publisher_name">Stein Rune Karlsen</MDI>
    <MDI key="NC_GLOBAL#publisher_url">https://www.norceresearch.no/en/persons/stein-rune-karlsen/2185</MDI>
    <MDI key="NC_GLOBAL#references">https://doi.org/10.3390/rs14246346</MDI>
    <MDI key="NC_GLOBAL#source">MODIS MOD09Q1 and MODIS MOD09A1 data</MDI>
    <MDI key="NC_GLOBAL#Source_Software">Esri ArcGIS</MDI>
    <MDI key="NC_GLOBAL#summary">Daily NDVI form 10 May to 20 September year 2005 for Svalbard. Only areas with summer NDVI &gt; 0.0, other areas has -1.001 in value</MDI>
    <MDI key="NC_GLOBAL#time_coverage_end">2005-09-25T12:00:00Z</MDI>
    <MDI key="NC_GLOBAL#time_coverage_start">2005-05-10T12:00:00Z</MDI>
    <MDI key="NC_GLOBAL#title">NDVI for Svalbard</MDI>
    <MDI key="NDVI#coordinates">lat lon</MDI>
    <MDI key="NDVI#coverage_content_type">coordinate</MDI>
    <MDI key="NDVI#long_name">Normalized Difference Vegetation Index (NDVI)</MDI>
    <MDI key="NDVI#standard_name">normalized_difference_vegetation_index</MDI>
    <MDI key="NDVI#units">1</MDI>
    <MDI key="NETCDF_DIM_EXTRA">{time}</MDI>
    <MDI key="NETCDF_DIM_time_DEF">{134,6}</MDI>
    <MDI key="NETCDF_DIM_time_VALUES">{38482,38483,38484,38485,38486,38487,38488,38489,38490,38491,38492,38493,38494,38495,38496,38497,38498,38499,38500,38501,38502,38503,38504,38505,38506,38507,38508,38509,38510,38511,38512,38513,38514,38515,38516,38517,38518,38519,38520,38521,38522,38523,38524,38525,38526,38527,38528,38529,38530,38531,38532,38533,38534,38535,38536,38537,38538,38539,38540,38541,38542,38543,38544,38545,38546,38547,38548,38549,38550,38551,38552,38553,38554,38555,38556,38557,38558,38559,38560,38561,38562,38563,38564,38565,38566,38567,38568,38569,38570,38571,38572,38573,38574,38575,38576,38577,38578,38579,38580,38581,38582,38583,38584,38585,38586,38587,38588,38589,38590,38591,38592,38593,38594,38595,38596,38597,38598,38599,38600,38601,38602,38603,38604,38605,38606,38607,38608,38609,38610,38611,38612,38613,38614,38615}</MDI>
    <MDI key="time#calendar">proleptic_gregorian</MDI>
    <MDI key="time#long_name">time</MDI>
    <MDI key="time#standard_name">time</MDI>
    <MDI key="time#units">days since 1899-12-30</MDI>
    <MDI key="time#_FillValue">nan</MDI>
  </Metadata>
  <Metadata domain="GEOLOCATION">
    <MDI key="GEOREFERENCING_CONVENTION">PIXEL_CENTER</MDI>
    <MDI key="LINE_OFFSET">0</MDI>
    <MDI key="LINE_STEP">1</MDI>
    <MDI key="PIXEL_OFFSET">0</MDI>
    <MDI key="PIXEL_STEP">1</MDI>
    <MDI key="SRS">GEOGCS["WGS 84",DATUM["WGS_1984",SPHEROID["WGS 84",6378137,298.257223563,AUTHORITY["EPSG","7030"]],AUTHORITY["EPSG","6326"]],PRIMEM["Greenwich",0,AUTHORITY["EPSG","8901"]],UNIT["degree",0.0174532925199433,AUTHORITY["EPSG","9122"]],AXIS["Latitude",NORTH],AXIS["Longitude",EAST],AUTHORITY["EPSG","4326"]]</MDI>
    <MDI key="X_BAND">1</MDI>
    <MDI key="X_DATASET">NETCDF:"/lustre/storeB/adc-data/infranor/norce-ndvi/NDVI_2005.nc":lat</MDI>
    <MDI key="Y_BAND">1</MDI>
    <MDI key="Y_DATASET">NETCDF:"/lustre/storeB/adc-data/infranor/norce-ndvi/NDVI_2005.nc":lon</MDI>
  </Metadata>
  <VRTRasterBand dataType="Float32" band="1" blockXSize="3601" blockYSize="1">
    <Metadata>
      <MDI key="coordinates">lat lon</MDI>
      <MDI key="coverage_content_type">coordinate</MDI>
      <MDI key="long_name">Normalized Difference Vegetation Index (NDVI)</MDI>
      <MDI key="NETCDF_DIM_time">38606</MDI>
      <MDI key="NETCDF_VARNAME">NDVI</MDI>
      <MDI key="standard_name">normalized_difference_vegetation_index</MDI>
      <MDI key="units">1</MDI>
    </Metadata>
    <NoDataValue>9.96920996838686905e+36</NoDataValue>
    <ComplexSource>
      <SourceFilename relativeToVRT="0">NETCDF:"/lustre/storeB/adc-data/infranor/norce-ndvi/NDVI_2005.nc":NDVI</SourceFilename>
      <SourceBand>125</SourceBand>
      <SourceProperties RasterXSize="3601" RasterYSize="716" DataType="Float32" BlockXSize="3601" BlockYSize="1" />
      <SrcRect xOff="0" yOff="0" xSize="3601" ySize="716" />
      <DstRect xOff="0" yOff="0" xSize="3601" ySize="716" />
      <NODATA>9.96920996838686905e+36</NODATA>
    </ComplexSource>
  </VRTRasterBand>
</VRTDataset>
