<VRTDataset rasterXSize="3601" rasterYSize="716">
  <SRS dataAxisToSRSAxisMapping="2,1">GEOGCS["WGS 84",DATUM["WGS_1984",SPHEROID["WGS 84",6378137,298.257223563,AUTHORITY["EPSG","7030"]],AUTHORITY["EPSG","6326"]],PRIMEM["Greenwich",0,AUTHORITY["EPSG","8901"]],UNIT["degree",0.0174532925199433,AUTHORITY["EPSG","9122"]],AXIS["Latitude",NORTH],AXIS["Longitude",EAST],AUTHORITY["EPSG","4326"]]</SRS>
  <GeoTransform>  9.1071529576360000e+00,  6.8786487000007668e-03,  0.0000000000000000e+00,  8.0879570528892998e+01,  0.0000000000000000e+00, -6.8786486999954377e-03</GeoTransform>
  <Metadata>
    <MDI key="lat#long_name">longitude coordinate</MDI>
    <MDI key="lat#standard_name">longitude</MDI>
    <MDI key="lat#units">degrees_east</MDI>
    <MDI key="lat#_FillValue">nan</MDI>
    <MDI key="lon#long_name">latitude coordinate</MDI>
    <MDI key="lon#standard_name">latitude</MDI>
    <MDI key="lon#units">degrees_north</MDI>
    <MDI key="lon#_FillValue">nan</MDI>
    <MDI key="NC_GLOBAL#Conventions">CF-1.6, ACDD-1.3</MDI>
    <MDI key="NC_GLOBAL#creator_email">skar@norceresearch.no</MDI>
    <MDI key="NC_GLOBAL#creator_institution">NORCE Norwegian Research Centre</MDI>
    <MDI key="NC_GLOBAL#creator_name">Stein Rune Karlsen</MDI>
    <MDI key="NC_GLOBAL#creator_type">person</MDI>
    <MDI key="NC_GLOBAL#creator_url">https://www.norceresearch.no/en/persons/stein-rune-karlsen/2185</MDI>
    <MDI key="NC_GLOBAL#date_created">2023-05-22T12:35:00Z</MDI>
    <MDI key="NC_GLOBAL#geospatial_lat_max">80.8795705289</MDI>
    <MDI key="NC_GLOBAL#geospatial_lat_min">75.9544580597</MDI>
    <MDI key="NC_GLOBAL#geospatial_lon_max">33.8771669263</MDI>
    <MDI key="NC_GLOBAL#geospatial_lon_min">9.10715295764</MDI>
    <MDI key="NC_GLOBAL#history">v.1.0 </MDI>
    <MDI key="NC_GLOBAL#id">https://www.youtube.com/watch?v=99JIyEVLMZ0&amp;list=PLkLmgjvctLaSUztTGLh57ZnPrIlC8Kp6S&amp;index=24</MDI>
    <MDI key="NC_GLOBAL#institution">NORCE Norwegian Research Centre</MDI>
    <MDI key="NC_GLOBAL#institution_short_name">NORCE</MDI>
    <MDI key="NC_GLOBAL#keywords">Earth Science &gt; Biosphere &gt; NDVI &gt; plant productivity</MDI>
    <MDI key="NC_GLOBAL#keywords_vocabulary">GCMDSK</MDI>
    <MDI key="NC_GLOBAL#naming_authority">norceresearch.no</MDI>
    <MDI key="NC_GLOBAL#processing level">Extracted and interpolated form two datasets, cloud removal</MDI>
    <MDI key="NC_GLOBAL#project">SIOS InfraNor</MDI>
    <MDI key="NC_GLOBAL#publisher_email">skar@norceresearch.no</MDI>
    <MDI key="NC_GLOBAL#publisher_name">Stein Rune Karlsen</MDI>
    <MDI key="NC_GLOBAL#publisher_url">https://www.norceresearch.no/en/persons/stein-rune-karlsen/2185</MDI>
    <MDI key="NC_GLOBAL#references">https://doi.org/10.3390/rs14246346</MDI>
    <MDI key="NC_GLOBAL#source">MODIS MOD09Q1 and MODIS MOD09A1 data</MDI>
    <MDI key="NC_GLOBAL#Source_Software">Esri ArcGIS</MDI>
    <MDI key="NC_GLOBAL#summary">Daily NDVI form 10 May to 20 September year 2015 for Svalbard. Only areas with summer NDVI &gt; 0.0, other areas has -1.001 in value</MDI>
    <MDI key="NC_GLOBAL#time_coverage_end">2015-09-25T12:00:00Z</MDI>
    <MDI key="NC_GLOBAL#time_coverage_start">2015-05-10T12:00:00Z</MDI>
    <MDI key="NC_GLOBAL#title">NDVI for Svalbard</MDI>
    <MDI key="NDVI#coordinates">lat lon</MDI>
    <MDI key="NDVI#coverage_content_type">coordinate</MDI>
    <MDI key="NDVI#long_name">Normalized Difference Vegetation Index (NDVI)</MDI>
    <MDI key="NDVI#standard_name">normalized_difference_vegetation_index</MDI>
    <MDI key="NDVI#units">1</MDI>
    <MDI key="NETCDF_DIM_EXTRA">{time}</MDI>
    <MDI key="NETCDF_DIM_time_DEF">{134,6}</MDI>
    <MDI key="NETCDF_DIM_time_VALUES">{42134,42135,42136,42137,42138,42139,42140,42141,42142,42143,42144,42145,42146,42147,42148,42149,42150,42151,42152,42153,42154,42155,42156,42157,42158,42159,42160,42161,42162,42163,42164,42165,42166,42167,42168,42169,42170,42171,42172,42173,42174,42175,42176,42177,42178,42179,42180,42181,42182,42183,42184,42185,42186,42187,42188,42189,42190,42191,42192,42193,42194,42195,42196,42197,42198,42199,42200,42201,42202,42203,42204,42205,42206,42207,42208,42209,42210,42211,42212,42213,42214,42215,42216,42217,42218,42219,42220,42221,42222,42223,42224,42225,42226,42227,42228,42229,42230,42231,42232,42233,42234,42235,42236,42237,42238,42239,42240,42241,42242,42243,42244,42245,42246,42247,42248,42249,42250,42251,42252,42253,42254,42255,42256,42257,42258,42259,42260,42261,42262,42263,42264,42265,42266,42267}</MDI>
    <MDI key="time#calendar">proleptic_gregorian</MDI>
    <MDI key="time#long_name">time</MDI>
    <MDI key="time#standard_name">time</MDI>
    <MDI key="time#units">days since 1899-12-30</MDI>
    <MDI key="time#_FillValue">nan</MDI>
  </Metadata>
  <Metadata domain="GEOLOCATION">
    <MDI key="GEOREFERENCING_CONVENTION">PIXEL_CENTER</MDI>
    <MDI key="LINE_OFFSET">0</MDI>
    <MDI key="LINE_STEP">1</MDI>
    <MDI key="PIXEL_OFFSET">0</MDI>
    <MDI key="PIXEL_STEP">1</MDI>
    <MDI key="SRS">GEOGCS["WGS 84",DATUM["WGS_1984",SPHEROID["WGS 84",6378137,298.257223563,AUTHORITY["EPSG","7030"]],AUTHORITY["EPSG","6326"]],PRIMEM["Greenwich",0,AUTHORITY["EPSG","8901"]],UNIT["degree",0.0174532925199433,AUTHORITY["EPSG","9122"]],AXIS["Latitude",NORTH],AXIS["Longitude",EAST],AUTHORITY["EPSG","4326"]]</MDI>
    <MDI key="X_BAND">1</MDI>
    <MDI key="X_DATASET">NETCDF:"/lustre/storeB/adc-data/infranor/norce-ndvi/NDVI_2015.nc":lat</MDI>
    <MDI key="Y_BAND">1</MDI>
    <MDI key="Y_DATASET">NETCDF:"/lustre/storeB/adc-data/infranor/norce-ndvi/NDVI_2015.nc":lon</MDI>
  </Metadata>
  <VRTRasterBand dataType="Float32" band="1" blockXSize="3601" blockYSize="1">
    <Metadata>
      <MDI key="coordinates">lat lon</MDI>
      <MDI key="coverage_content_type">coordinate</MDI>
      <MDI key="long_name">Normalized Difference Vegetation Index (NDVI)</MDI>
      <MDI key="NETCDF_DIM_time">42160</MDI>
      <MDI key="NETCDF_VARNAME">NDVI</MDI>
      <MDI key="standard_name">normalized_difference_vegetation_index</MDI>
      <MDI key="units">1</MDI>
    </Metadata>
    <NoDataValue>9.96920996838686905e+36</NoDataValue>
    <ComplexSource>
      <SourceFilename relativeToVRT="0">NETCDF:"/lustre/storeB/adc-data/infranor/norce-ndvi/NDVI_2015.nc":NDVI</SourceFilename>
      <SourceBand>27</SourceBand>
      <SourceProperties RasterXSize="3601" RasterYSize="716" DataType="Float32" BlockXSize="3601" BlockYSize="1" />
      <SrcRect xOff="0" yOff="0" xSize="3601" ySize="716" />
      <DstRect xOff="0" yOff="0" xSize="3601" ySize="716" />
      <NODATA>9.96920996838686905e+36</NODATA>
    </ComplexSource>
  </VRTRasterBand>
</VRTDataset>
