<VRTDataset rasterXSize="3601" rasterYSize="716">
  <SRS dataAxisToSRSAxisMapping="2,1">GEOGCS["WGS 84",DATUM["WGS_1984",SPHEROID["WGS 84",6378137,298.257223563,AUTHORITY["EPSG","7030"]],AUTHORITY["EPSG","6326"]],PRIMEM["Greenwich",0,AUTHORITY["EPSG","8901"]],UNIT["degree",0.0174532925199433,AUTHORITY["EPSG","9122"]],AXIS["Latitude",NORTH],AXIS["Longitude",EAST],AUTHORITY["EPSG","4326"]]</SRS>
  <GeoTransform>  9.1071529576360000e+00,  6.8786487000007668e-03,  0.0000000000000000e+00,  8.0879570528892998e+01,  0.0000000000000000e+00, -6.8786486999954377e-03</GeoTransform>
  <Metadata>
    <MDI key="lat#long_name">longitude coordinate</MDI>
    <MDI key="lat#standard_name">longitude</MDI>
    <MDI key="lat#units">degrees_east</MDI>
    <MDI key="lat#_FillValue">nan</MDI>
    <MDI key="lon#long_name">latitude coordinate</MDI>
    <MDI key="lon#standard_name">latitude</MDI>
    <MDI key="lon#units">degrees_north</MDI>
    <MDI key="lon#_FillValue">nan</MDI>
    <MDI key="NC_GLOBAL#Conventions">CF-1.6, ACDD-1.3</MDI>
    <MDI key="NC_GLOBAL#creator_email">skar@norceresearch.no</MDI>
    <MDI key="NC_GLOBAL#creator_institution">NORCE Norwegian Research Centre</MDI>
    <MDI key="NC_GLOBAL#creator_name">Stein Rune Karlsen</MDI>
    <MDI key="NC_GLOBAL#creator_type">person</MDI>
    <MDI key="NC_GLOBAL#creator_url">https://www.norceresearch.no/en/persons/stein-rune-karlsen/2185</MDI>
    <MDI key="NC_GLOBAL#date_created">2023-05-22T12:35:00Z</MDI>
    <MDI key="NC_GLOBAL#geospatial_lat_max">80.8795705289</MDI>
    <MDI key="NC_GLOBAL#geospatial_lat_min">75.9544580597</MDI>
    <MDI key="NC_GLOBAL#geospatial_lon_max">33.8771669263</MDI>
    <MDI key="NC_GLOBAL#geospatial_lon_min">9.10715295764</MDI>
    <MDI key="NC_GLOBAL#history">v.1.0 </MDI>
    <MDI key="NC_GLOBAL#id">https://www.youtube.com/watch?v=rMavKRRmMwc&amp;list=PLkLmgjvctLaSUztTGLh57ZnPrIlC8Kp6S&amp;index=23</MDI>
    <MDI key="NC_GLOBAL#institution">NORCE Norwegian Research Centre</MDI>
    <MDI key="NC_GLOBAL#institution_short_name">NORCE</MDI>
    <MDI key="NC_GLOBAL#keywords">Earth Science &gt; Biosphere &gt; NDVI &gt; plant productivity</MDI>
    <MDI key="NC_GLOBAL#keywords_vocabulary">GCMDSK</MDI>
    <MDI key="NC_GLOBAL#naming_authority">norceresearch.no</MDI>
    <MDI key="NC_GLOBAL#processing level">Extracted and interpolated form two datasets, cloud removal</MDI>
    <MDI key="NC_GLOBAL#project">SIOS InfraNor</MDI>
    <MDI key="NC_GLOBAL#publisher_email">skar@norceresearch.no</MDI>
    <MDI key="NC_GLOBAL#publisher_name">Stein Rune Karlsen</MDI>
    <MDI key="NC_GLOBAL#publisher_url">https://www.norceresearch.no/en/persons/stein-rune-karlsen/2185</MDI>
    <MDI key="NC_GLOBAL#references">https://doi.org/10.3390/rs14246346</MDI>
    <MDI key="NC_GLOBAL#source">MODIS MOD09Q1 and MODIS MOD09A1 data</MDI>
    <MDI key="NC_GLOBAL#Source_Software">Esri ArcGIS</MDI>
    <MDI key="NC_GLOBAL#summary">Daily NDVI form 10 May to 20 September year 2016 for Svalbard. Only areas with summer NDVI &gt; 0.0, other areas has -1.001 in value</MDI>
    <MDI key="NC_GLOBAL#time_coverage_end">2016-09-25T12:00:00Z</MDI>
    <MDI key="NC_GLOBAL#time_coverage_start">2016-05-10T12:00:00Z</MDI>
    <MDI key="NC_GLOBAL#title">NDVI for Svalbard</MDI>
    <MDI key="NDVI#coordinates">lat lon</MDI>
    <MDI key="NDVI#coverage_content_type">coordinate</MDI>
    <MDI key="NDVI#long_name">Normalized Difference Vegetation Index (NDVI)</MDI>
    <MDI key="NDVI#standard_name">normalized_difference_vegetation_index</MDI>
    <MDI key="NDVI#units">1</MDI>
    <MDI key="NETCDF_DIM_EXTRA">{time}</MDI>
    <MDI key="NETCDF_DIM_time_DEF">{134,6}</MDI>
    <MDI key="NETCDF_DIM_time_VALUES">{42500,42501,42502,42503,42504,42505,42506,42507,42508,42509,42510,42511,42512,42513,42514,42515,42516,42517,42518,42519,42520,42521,42522,42523,42524,42525,42526,42527,42528,42529,42530,42531,42532,42533,42534,42535,42536,42537,42538,42539,42540,42541,42542,42543,42544,42545,42546,42547,42548,42549,42550,42551,42552,42553,42554,42555,42556,42557,42558,42559,42560,42561,42562,42563,42564,42565,42566,42567,42568,42569,42570,42571,42572,42573,42574,42575,42576,42577,42578,42579,42580,42581,42582,42583,42584,42585,42586,42587,42588,42589,42590,42591,42592,42593,42594,42595,42596,42597,42598,42599,42600,42601,42602,42603,42604,42605,42606,42607,42608,42609,42610,42611,42612,42613,42614,42615,42616,42617,42618,42619,42620,42621,42622,42623,42624,42625,42626,42627,42628,42629,42630,42631,42632,42633}</MDI>
    <MDI key="time#calendar">proleptic_gregorian</MDI>
    <MDI key="time#long_name">time</MDI>
    <MDI key="time#standard_name">time</MDI>
    <MDI key="time#units">days since 1899-12-30</MDI>
    <MDI key="time#_FillValue">nan</MDI>
  </Metadata>
  <Metadata domain="GEOLOCATION">
    <MDI key="GEOREFERENCING_CONVENTION">PIXEL_CENTER</MDI>
    <MDI key="LINE_OFFSET">0</MDI>
    <MDI key="LINE_STEP">1</MDI>
    <MDI key="PIXEL_OFFSET">0</MDI>
    <MDI key="PIXEL_STEP">1</MDI>
    <MDI key="SRS">GEOGCS["WGS 84",DATUM["WGS_1984",SPHEROID["WGS 84",6378137,298.257223563,AUTHORITY["EPSG","7030"]],AUTHORITY["EPSG","6326"]],PRIMEM["Greenwich",0,AUTHORITY["EPSG","8901"]],UNIT["degree",0.0174532925199433,AUTHORITY["EPSG","9122"]],AXIS["Latitude",NORTH],AXIS["Longitude",EAST],AUTHORITY["EPSG","4326"]]</MDI>
    <MDI key="X_BAND">1</MDI>
    <MDI key="X_DATASET">NETCDF:"/lustre/storeB/adc-data/infranor/norce-ndvi/NDVI_2016.nc":lat</MDI>
    <MDI key="Y_BAND">1</MDI>
    <MDI key="Y_DATASET">NETCDF:"/lustre/storeB/adc-data/infranor/norce-ndvi/NDVI_2016.nc":lon</MDI>
  </Metadata>
  <VRTRasterBand dataType="Float32" band="1" blockXSize="3601" blockYSize="1">
    <Metadata>
      <MDI key="coordinates">lat lon</MDI>
      <MDI key="coverage_content_type">coordinate</MDI>
      <MDI key="long_name">Normalized Difference Vegetation Index (NDVI)</MDI>
      <MDI key="NETCDF_DIM_time">42601</MDI>
      <MDI key="NETCDF_VARNAME">NDVI</MDI>
      <MDI key="standard_name">normalized_difference_vegetation_index</MDI>
      <MDI key="units">1</MDI>
    </Metadata>
    <NoDataValue>9.96920996838686905e+36</NoDataValue>
    <ComplexSource>
      <SourceFilename relativeToVRT="0">NETCDF:"/lustre/storeB/adc-data/infranor/norce-ndvi/NDVI_2016.nc":NDVI</SourceFilename>
      <SourceBand>102</SourceBand>
      <SourceProperties RasterXSize="3601" RasterYSize="716" DataType="Float32" BlockXSize="3601" BlockYSize="1" />
      <SrcRect xOff="0" yOff="0" xSize="3601" ySize="716" />
      <DstRect xOff="0" yOff="0" xSize="3601" ySize="716" />
      <NODATA>9.96920996838686905e+36</NODATA>
    </ComplexSource>
  </VRTRasterBand>
</VRTDataset>
