<VRTDataset rasterXSize="3601" rasterYSize="716">
  <SRS dataAxisToSRSAxisMapping="2,1">GEOGCS["WGS 84",DATUM["WGS_1984",SPHEROID["WGS 84",6378137,298.257223563,AUTHORITY["EPSG","7030"]],AUTHORITY["EPSG","6326"]],PRIMEM["Greenwich",0,AUTHORITY["EPSG","8901"]],UNIT["degree",0.0174532925199433,AUTHORITY["EPSG","9122"]],AXIS["Latitude",NORTH],AXIS["Longitude",EAST],AUTHORITY["EPSG","4326"]]</SRS>
  <GeoTransform>  9.1071529576360000e+00,  6.8786487000007668e-03,  0.0000000000000000e+00,  8.0879570528892998e+01,  0.0000000000000000e+00, -6.8786486999954377e-03</GeoTransform>
  <Metadata>
    <MDI key="lat#long_name">longitude coordinate</MDI>
    <MDI key="lat#standard_name">longitude</MDI>
    <MDI key="lat#units">degrees_east</MDI>
    <MDI key="lat#_FillValue">nan</MDI>
    <MDI key="lon#long_name">latitude coordinate</MDI>
    <MDI key="lon#standard_name">latitude</MDI>
    <MDI key="lon#units">degrees_north</MDI>
    <MDI key="lon#_FillValue">nan</MDI>
    <MDI key="NC_GLOBAL#Conventions">CF-1.6, ACDD-1.3</MDI>
    <MDI key="NC_GLOBAL#creator_email">skar@norceresearch.no</MDI>
    <MDI key="NC_GLOBAL#creator_institution">Norwegian Research Centre (NORCE)</MDI>
    <MDI key="NC_GLOBAL#creator_name">Stein Rune Karlsen</MDI>
    <MDI key="NC_GLOBAL#creator_type">person</MDI>
    <MDI key="NC_GLOBAL#creator_url">https://www.norceresearch.no/en/persons/stein-rune-karlsen/2185</MDI>
    <MDI key="NC_GLOBAL#date_created">2024-12-09T14:15:00Z</MDI>
    <MDI key="NC_GLOBAL#geospatial_lat_max">80.8795705289</MDI>
    <MDI key="NC_GLOBAL#geospatial_lat_min">75.9544580597</MDI>
    <MDI key="NC_GLOBAL#geospatial_lon_max">33.8771669263</MDI>
    <MDI key="NC_GLOBAL#geospatial_lon_min">9.10715295764</MDI>
    <MDI key="NC_GLOBAL#history">v.1.0 </MDI>
    <MDI key="NC_GLOBAL#id">ndvi_v061_year2024</MDI>
    <MDI key="NC_GLOBAL#institution">NORCE Norwegian Research Centre</MDI>
    <MDI key="NC_GLOBAL#institution_short_name">NORCE</MDI>
    <MDI key="NC_GLOBAL#keywords">GCMDSK:Earth Science &gt; Biosphere &gt; NDVI &gt; plant productivity</MDI>
    <MDI key="NC_GLOBAL#keywords_vocabulary">GCMDSK</MDI>
    <MDI key="NC_GLOBAL#naming_authority">norceresearch.no</MDI>
    <MDI key="NC_GLOBAL#processing level">Extracted and interpolated form two datasets, cloud removal</MDI>
    <MDI key="NC_GLOBAL#project">SIOS InfraNor</MDI>
    <MDI key="NC_GLOBAL#publisher_email">skar@norceresearch.no</MDI>
    <MDI key="NC_GLOBAL#publisher_name">Stein Rune Karlsen</MDI>
    <MDI key="NC_GLOBAL#publisher_url">https://www.norceresearch.no/en/persons/stein-rune-karlsen/2185</MDI>
    <MDI key="NC_GLOBAL#references">https://doi.org/10.1016/j.scitotenv.2024.174130</MDI>
    <MDI key="NC_GLOBAL#source">MODIS MOD09Q1.V061 and MODIS MOD09A1.V061 data</MDI>
    <MDI key="NC_GLOBAL#Source_Software">Esri ArcGIS</MDI>
    <MDI key="NC_GLOBAL#summary">Daily MODIS NDVI V061 form 10 May to 20 September for the years 2022 -  2024 for Svalbard. Only areas with summer NDVI &gt; 0.0, other areas has -1.001 in value</MDI>
    <MDI key="NC_GLOBAL#time_coverage_end">2024-09-20T12:00:00Z</MDI>
    <MDI key="NC_GLOBAL#time_coverage_start">2024-05-10T12:00:00Z</MDI>
    <MDI key="NC_GLOBAL#title">NDVI V061 for Svalbard</MDI>
    <MDI key="NDVI#coordinates">lat lon</MDI>
    <MDI key="NDVI#coverage_content_type">coordinate</MDI>
    <MDI key="NDVI#long_name">Normalized Difference Vegetation Index (NDVI)</MDI>
    <MDI key="NDVI#standard_name">normalized_difference_vegetation_index</MDI>
    <MDI key="NDVI#units">1</MDI>
    <MDI key="NETCDF_DIM_EXTRA">{time}</MDI>
    <MDI key="NETCDF_DIM_time_DEF">{134,6}</MDI>
    <MDI key="NETCDF_DIM_time_VALUES">{45422,45423,45424,45425,45426,45427,45428,45429,45430,45431,45432,45433,45434,45435,45436,45437,45438,45439,45440,45441,45442,45443,45444,45445,45446,45447,45448,45449,45450,45451,45452,45453,45454,45455,45456,45457,45458,45459,45460,45461,45462,45463,45464,45465,45466,45467,45468,45469,45470,45471,45472,45473,45474,45475,45476,45477,45478,45479,45480,45481,45482,45483,45484,45485,45486,45487,45488,45489,45490,45491,45492,45493,45494,45495,45496,45497,45498,45499,45500,45501,45502,45503,45504,45505,45506,45507,45508,45509,45510,45511,45512,45513,45514,45515,45516,45517,45518,45519,45520,45521,45522,45523,45524,45525,45526,45527,45528,45529,45530,45531,45532,45533,45534,45535,45536,45537,45538,45539,45540,45541,45542,45543,45544,45545,45546,45547,45548,45549,45550,45551,45552,45553,45554,45555}</MDI>
    <MDI key="time#calendar">proleptic_gregorian</MDI>
    <MDI key="time#long_name">time</MDI>
    <MDI key="time#standard_name">time</MDI>
    <MDI key="time#units">days since 1899-12-30</MDI>
    <MDI key="time#_FillValue">nan</MDI>
  </Metadata>
  <Metadata domain="GEOLOCATION">
    <MDI key="GEOREFERENCING_CONVENTION">PIXEL_CENTER</MDI>
    <MDI key="LINE_OFFSET">0</MDI>
    <MDI key="LINE_STEP">1</MDI>
    <MDI key="PIXEL_OFFSET">0</MDI>
    <MDI key="PIXEL_STEP">1</MDI>
    <MDI key="SRS">GEOGCS["WGS 84",DATUM["WGS_1984",SPHEROID["WGS 84",6378137,298.257223563,AUTHORITY["EPSG","7030"]],AUTHORITY["EPSG","6326"]],PRIMEM["Greenwich",0,AUTHORITY["EPSG","8901"]],UNIT["degree",0.0174532925199433,AUTHORITY["EPSG","9122"]],AXIS["Latitude",NORTH],AXIS["Longitude",EAST],AUTHORITY["EPSG","4326"]]</MDI>
    <MDI key="X_BAND">1</MDI>
    <MDI key="X_DATASET">NETCDF:"/lustre/storeB/adc-data/infranor/norce-ndvi/NDVI_V061_2024.nc":lat</MDI>
    <MDI key="Y_BAND">1</MDI>
    <MDI key="Y_DATASET">NETCDF:"/lustre/storeB/adc-data/infranor/norce-ndvi/NDVI_V061_2024.nc":lon</MDI>
  </Metadata>
  <VRTRasterBand dataType="Float32" band="1" blockXSize="3601" blockYSize="1">
    <Metadata>
      <MDI key="coordinates">lat lon</MDI>
      <MDI key="coverage_content_type">coordinate</MDI>
      <MDI key="long_name">Normalized Difference Vegetation Index (NDVI)</MDI>
      <MDI key="NETCDF_DIM_time">45509</MDI>
      <MDI key="NETCDF_VARNAME">NDVI</MDI>
      <MDI key="standard_name">normalized_difference_vegetation_index</MDI>
      <MDI key="units">1</MDI>
    </Metadata>
    <NoDataValue>9.96920996838686905e+36</NoDataValue>
    <ComplexSource>
      <SourceFilename relativeToVRT="0">NETCDF:"/lustre/storeB/adc-data/infranor/norce-ndvi/NDVI_V061_2024.nc":NDVI</SourceFilename>
      <SourceBand>88</SourceBand>
      <SourceProperties RasterXSize="3601" RasterYSize="716" DataType="Float32" BlockXSize="3601" BlockYSize="1" />
      <SrcRect xOff="0" yOff="0" xSize="3601" ySize="716" />
      <DstRect xOff="0" yOff="0" xSize="3601" ySize="716" />
      <NODATA>9.96920996838686905e+36</NODATA>
    </ComplexSource>
  </VRTRasterBand>
</VRTDataset>
