<VRTDataset rasterXSize="1440" rasterYSize="160">
  <SRS dataAxisToSRSAxisMapping="2,1">GEOGCS["WGS 84",DATUM["WGS_1984",SPHEROID["WGS 84",6378137,298.257223563,AUTHORITY["EPSG","7030"]],AUTHORITY["EPSG","6326"]],PRIMEM["Greenwich",0,AUTHORITY["EPSG","8901"]],UNIT["degree",0.0174532925199433,AUTHORITY["EPSG","9122"]],AXIS["Latitude",NORTH],AXIS["Longitude",EAST],AUTHORITY["EPSG","4326"]]</SRS>
  <GeoTransform> -1.2500000000000000e-01,  2.5000000000000000e-01,  0.0000000000000000e+00,  4.9875000000000000e+01,  0.0000000000000000e+00,  2.5000000000000000e-01</GeoTransform>
  <Metadata>
    <MDI key="lat#axis">Y</MDI>
    <MDI key="lat#long_name">latitude</MDI>
    <MDI key="lat#northernmost_latitude">89.75</MDI>
    <MDI key="lat#southernmost_latitude">50</MDI>
    <MDI key="lat#standard_name">latitude</MDI>
    <MDI key="lat#units">degrees_north</MDI>
    <MDI key="lon#axis">X</MDI>
    <MDI key="lon#easternmost_longitude">359.75</MDI>
    <MDI key="lon#long_name">longitude</MDI>
    <MDI key="lon#standard_name">longitude</MDI>
    <MDI key="lon#units">degrees_east</MDI>
    <MDI key="lon#westernmost_longitude">0</MDI>
    <MDI key="NC_GLOBAL#abstract">These CMIP5 model data show interpolated results in Arctic only. Original data were cut and interpolated for internal use of the EU funded project ACCESS.</MDI>
    <MDI key="NC_GLOBAL#activity_type">Model run</MDI>
    <MDI key="NC_GLOBAL#area">Arctic Ocean</MDI>
    <MDI key="NC_GLOBAL#branch_time">10957</MDI>
    <MDI key="NC_GLOBAL#CDI">Climate Data Interface version 1.5.5 (http://code.zmaw.de/projects/cdi)</MDI>
    <MDI key="NC_GLOBAL#CDO">Climate Data Operators version 1.5.5 (http://code.zmaw.de/projects/cdo)</MDI>
    <MDI key="NC_GLOBAL#cmor_version">2.5.9</MDI>
    <MDI key="NC_GLOBAL#contact">Kathrin.Riemann-Campe@awi.de</MDI>
    <MDI key="NC_GLOBAL#Conventions">CF-1.4</MDI>
    <MDI key="NC_GLOBAL#creation_date">2011-05-28T00:59:21Z</MDI>
    <MDI key="NC_GLOBAL#distribution_statement">Restricted to ACCESS</MDI>
    <MDI key="NC_GLOBAL#easternmost_longitude">180</MDI>
    <MDI key="NC_GLOBAL#experiment">historical</MDI>
    <MDI key="NC_GLOBAL#experiment_id">historical</MDI>
    <MDI key="NC_GLOBAL#forcing">GHG Oz SD Sl Vl LU</MDI>
    <MDI key="NC_GLOBAL#frequency">day</MDI>
    <MDI key="NC_GLOBAL#gcmd_keywords">Atmospheric/Ocean Indicators</MDI>
    <MDI key="NC_GLOBAL#history">2014-04-01 creation</MDI>
    <MDI key="NC_GLOBAL#initialization_method">1</MDI>
    <MDI key="NC_GLOBAL#institute_id">MPI-M</MDI>
    <MDI key="NC_GLOBAL#institution">AWI</MDI>
    <MDI key="NC_GLOBAL#keywords">Arctic near surface wind</MDI>
    <MDI key="NC_GLOBAL#modeling_realm">atmos</MDI>
    <MDI key="NC_GLOBAL#model_id">MPI-ESM-LR</MDI>
    <MDI key="NC_GLOBAL#northernmost_latitude">89.75</MDI>
    <MDI key="NC_GLOBAL#parent_experiment">pre-industrial control</MDI>
    <MDI key="NC_GLOBAL#parent_experiment_id">piControl</MDI>
    <MDI key="NC_GLOBAL#parent_experiment_rip">r1i1p1</MDI>
    <MDI key="NC_GLOBAL#physics_version">1</MDI>
    <MDI key="NC_GLOBAL#PI_name">Kathrin Riemann-Campe</MDI>
    <MDI key="NC_GLOBAL#product">output</MDI>
    <MDI key="NC_GLOBAL#product_name">ensemble mean monthly mean near surface northward wind</MDI>
    <MDI key="NC_GLOBAL#project_id">CMIP5</MDI>
    <MDI key="NC_GLOBAL#project_name">ACCESS</MDI>
    <MDI key="NC_GLOBAL#realization">1</MDI>
    <MDI key="NC_GLOBAL#references">ECHAM6: n/a; JSBACH: Raddatz et al., 2007. Will the tropical land biosphere dominate the climate-carbon cycle feedback during the twenty first century? Climate Dynamics, 29, 565-574, doi 10.1007/s00382-007-0247-8;  MPIOM: Marsland et al., 2003. The Max-Planck-Institute global ocean/sea ice model with orthogonal curvilinear coordinates. Ocean Modelling, 5, 91-127;  HAMOCC: http://www.mpimet.mpg.de/fileadmin/models/MPIOM/HAMOCC5.1_TECHNICAL_REPORT.pdf;</MDI>
    <MDI key="NC_GLOBAL#southernmost_latitude">50</MDI>
    <MDI key="NC_GLOBAL#start_date">1950-01-16 00:00:00 UTC</MDI>
    <MDI key="NC_GLOBAL#stop_date">2005-12-16 00:00:00 UTC</MDI>
    <MDI key="NC_GLOBAL#table_id">Table day (27 April 2011) 86d1558d99b6ed1e7a886ab3fd717b58</MDI>
    <MDI key="NC_GLOBAL#title">MPI-ESM-LR model output prepared for CMIP5 historical</MDI>
    <MDI key="NC_GLOBAL#topiccategory">Atmosphere</MDI>
    <MDI key="NC_GLOBAL#tracking_id">21d51674-4ef4-426a-8ec2-9a44dd1462e1</MDI>
    <MDI key="NC_GLOBAL#westernmost_longitude">-180</MDI>
    <MDI key="NETCDF_DIM_EXTRA">{time}</MDI>
    <MDI key="NETCDF_DIM_time_DEF">{672,6}</MDI>
    <MDI key="time#axis">T</MDI>
    <MDI key="time#bounds">time_bnds</MDI>
    <MDI key="time#calendar">proleptic_gregorian</MDI>
    <MDI key="time#standard_name">time</MDI>
    <MDI key="time#start_date">1950-01-16 00:00:00 UTC</MDI>
    <MDI key="time#stop_date">2005-12-16 00:00:00 UTC</MDI>
    <MDI key="time#units">days since 1850-01-01 00:00:00</MDI>
    <MDI key="vas#associated_files">baseURL: http://cmip-pcmdi.llnl.gov/CMIP5/dataLocation gridspecFile: gridspec_atmos_fx_MPI-ESM-LR_historical_r0i0p0.nc</MDI>
    <MDI key="vas#cell_methods">time: mean</MDI>
    <MDI key="vas#history">2011-05-28T00:59:21Z altered by CMOR: Treated scalar dimension: 'height'.</MDI>
    <MDI key="vas#long_name">Northward Near-Surface Wind</MDI>
    <MDI key="vas#standard_name">northward_wind</MDI>
    <MDI key="vas#units">m s-1</MDI>
    <MDI key="vas#_FillValue">1e+20</MDI>
  </Metadata>
  <VRTRasterBand dataType="Float32" band="1" blockXSize="1440" blockYSize="1">
    <Metadata>
      <MDI key="associated_files">baseURL: http://cmip-pcmdi.llnl.gov/CMIP5/dataLocation gridspecFile: gridspec_atmos_fx_MPI-ESM-LR_historical_r0i0p0.nc</MDI>
      <MDI key="cell_methods">time: mean</MDI>
      <MDI key="history">2011-05-28T00:59:21Z altered by CMOR: Treated scalar dimension: 'height'.</MDI>
      <MDI key="long_name">Northward Near-Surface Wind</MDI>
      <MDI key="NETCDF_DIM_time">37374.5</MDI>
      <MDI key="NETCDF_VARNAME">vas</MDI>
      <MDI key="standard_name">northward_wind</MDI>
      <MDI key="units">m s-1</MDI>
      <MDI key="_FillValue">1e+20</MDI>
    </Metadata>
    <NoDataValue>1.00000002004087734e+20</NoDataValue>
    <ComplexSource>
      <SourceFilename relativeToVRT="0">NETCDF:"/lustre/storeB/adc-data/access/awi/atmos025grid/atmos025grid_vas_MPI-ESM-LR_historical_ensmean_1950-2005_monmean.nc":vas</SourceFilename>
      <SourceBand>28</SourceBand>
      <SourceProperties RasterXSize="1440" RasterYSize="160" DataType="Float32" BlockXSize="1440" BlockYSize="1" />
      <SrcRect xOff="0" yOff="0" xSize="1440" ySize="160" />
      <DstRect xOff="0" yOff="0" xSize="1440" ySize="160" />
      <NODATA>1.00000002004087734e+20</NODATA>
    </ComplexSource>
  </VRTRasterBand>
</VRTDataset>
