<VRTDataset rasterXSize="1440" rasterYSize="160">
  <SRS dataAxisToSRSAxisMapping="2,1">GEOGCS["WGS 84",DATUM["WGS_1984",SPHEROID["WGS 84",6378137,298.257223563,AUTHORITY["EPSG","7030"]],AUTHORITY["EPSG","6326"]],PRIMEM["Greenwich",0,AUTHORITY["EPSG","8901"]],UNIT["degree",0.0174532925199433,AUTHORITY["EPSG","9122"]],AXIS["Latitude",NORTH],AXIS["Longitude",EAST],AUTHORITY["EPSG","4326"]]</SRS>
  <GeoTransform> -1.2500000000000000e-01,  2.5000000000000000e-01,  0.0000000000000000e+00,  4.9875000000000000e+01,  0.0000000000000000e+00,  2.5000000000000000e-01</GeoTransform>
  <Metadata>
    <MDI key="lat#axis">Y</MDI>
    <MDI key="lat#long_name">latitude</MDI>
    <MDI key="lat#standard_name">latitude</MDI>
    <MDI key="lat#units">degrees_north</MDI>
    <MDI key="lon#axis">X</MDI>
    <MDI key="lon#easternmost_longitude">359.75</MDI>
    <MDI key="lon#long_name">longitude</MDI>
    <MDI key="lon#standard_name">longitude</MDI>
    <MDI key="lon#units">degrees_east</MDI>
    <MDI key="lon#westernmost_longitude">0</MDI>
    <MDI key="NC_GLOBAL#abstract">These CMIP5 model data show interpolated results in Arctic only. Original data were cut and interpolated for internal use of the EU funded project ACCESS.</MDI>
    <MDI key="NC_GLOBAL#acknowledgements">The CESM project is supported by the National Science Foundation and the Office of Science (BER) of the U.S. Department of Energy. NCAR is sponsored by the National Science Foundation. Computing resources were provided by the Climate Simulation Laboratory at the NCAR Computational and Information Systems Laboratory (CISL), sponsored by the National Science Foundation and other agencies.</MDI>
    <MDI key="NC_GLOBAL#activity_type">Model run</MDI>
    <MDI key="NC_GLOBAL#area">Arctic Ocean</MDI>
    <MDI key="NC_GLOBAL#branch_time">20</MDI>
    <MDI key="NC_GLOBAL#CDI">Climate Data Interface version 1.5.4 (http://code.zmaw.de/projects/cdi)</MDI>
    <MDI key="NC_GLOBAL#CDO">Climate Data Operators version 1.5.4 (http://code.zmaw.de/projects/cdo)</MDI>
    <MDI key="NC_GLOBAL#cesm_casename">b40.rcp4_5.1deg.006</MDI>
    <MDI key="NC_GLOBAL#cesm_compset">BRCP45CN</MDI>
    <MDI key="NC_GLOBAL#cesm_repotag">ccsm4_0_beta53</MDI>
    <MDI key="NC_GLOBAL#cmor_version">2.8.1</MDI>
    <MDI key="NC_GLOBAL#comment">CESM home page: http://www.cesm.ucar.edu</MDI>
    <MDI key="NC_GLOBAL#contact">cesm_data@ucar.edu</MDI>
    <MDI key="NC_GLOBAL#Conventions">CF-1.4</MDI>
    <MDI key="NC_GLOBAL#creation_date">2012-05-11T23:20:20Z</MDI>
    <MDI key="NC_GLOBAL#distribution_statement">Restricted to ACCESS</MDI>
    <MDI key="NC_GLOBAL#easternmost_longitude">180</MDI>
    <MDI key="NC_GLOBAL#experiment">RCP4.5</MDI>
    <MDI key="NC_GLOBAL#experiment_id">rcp45</MDI>
    <MDI key="NC_GLOBAL#forcing">Sl GHG SS Ds SA BC MD OC Oz AA</MDI>
    <MDI key="NC_GLOBAL#forcing_note">Additional information on the external forcings used in this experiment can be found at http://www.cesm.ucar.edu/CMIP5/forcing_information</MDI>
    <MDI key="NC_GLOBAL#frequency">mon</MDI>
    <MDI key="NC_GLOBAL#gcmd_keywords">NEAR SURFACE ATMOSPHERIC TEMPERATURE</MDI>
    <MDI key="NC_GLOBAL#history">2014-04-01 creation</MDI>
    <MDI key="NC_GLOBAL#initialization_method">1</MDI>
    <MDI key="NC_GLOBAL#institute_id">NCAR</MDI>
    <MDI key="NC_GLOBAL#institution">NCAR (National Center for Atmospheric Research) Boulder, CO, USA</MDI>
    <MDI key="NC_GLOBAL#keywords">Arctic near surface air temperature</MDI>
    <MDI key="NC_GLOBAL#modeling_realm">atmos</MDI>
    <MDI key="NC_GLOBAL#model_id">CCSM4</MDI>
    <MDI key="NC_GLOBAL#northernmost_latitude">89.75</MDI>
    <MDI key="NC_GLOBAL#parent_experiment">historical</MDI>
    <MDI key="NC_GLOBAL#parent_experiment_id">historical</MDI>
    <MDI key="NC_GLOBAL#parent_experiment_rip">r6i1p1</MDI>
    <MDI key="NC_GLOBAL#physics_version">1</MDI>
    <MDI key="NC_GLOBAL#PI_name">Kathrin Riemann-Campe</MDI>
    <MDI key="NC_GLOBAL#processed_by">strandwg on mirage0 at 20120511  -172011.567</MDI>
    <MDI key="NC_GLOBAL#processing_code_information">Last Changed Rev: 758 Last Changed Date: 2012-05-11 11:02:39 -0600 (Fri, 11 May 2012) Repository UUID: d2181dbe-5796-6825-dc7f-cbd98591f93d</MDI>
    <MDI key="NC_GLOBAL#product">output</MDI>
    <MDI key="NC_GLOBAL#product_name">ensemble mean monthly mean near surface temperature</MDI>
    <MDI key="NC_GLOBAL#project_id">CMIP5</MDI>
    <MDI key="NC_GLOBAL#project_name">ACCESS</MDI>
    <MDI key="NC_GLOBAL#realization">6</MDI>
    <MDI key="NC_GLOBAL#references">Gent P. R., et.al. 2011: The Community Climate System Model version 4. J. Climate, doi: 10.1175/2011JCLI4083.1</MDI>
    <MDI key="NC_GLOBAL#resolution">f09_g16 (0.9x1.25_gx1v6)</MDI>
    <MDI key="NC_GLOBAL#southernmost_latitude">50</MDI>
    <MDI key="NC_GLOBAL#start_date">2006-01-16 00:00:00 UTC</MDI>
    <MDI key="NC_GLOBAL#stop_date">2040-12-16 00:00:00 UTC</MDI>
    <MDI key="NC_GLOBAL#table_id">Table Amon (12 January 2012) 4996d487f7a65749098d9cc0dccb4f8d</MDI>
    <MDI key="NC_GLOBAL#title">CCSM4 model output prepared for CMIP5 RCP4.5</MDI>
    <MDI key="NC_GLOBAL#topiccategory">ClimatologyMeteorologyAtmosphere</MDI>
    <MDI key="NC_GLOBAL#tracking_id">3e43f5a1-34ce-48d4-9d2a-6219dbb718af</MDI>
    <MDI key="NC_GLOBAL#westernmost_longitude">-180</MDI>
    <MDI key="NETCDF_DIM_EXTRA">{time}</MDI>
    <MDI key="NETCDF_DIM_time_DEF">{420,6}</MDI>
    <MDI key="tas#associated_files">baseURL: http://cmip-pcmdi.llnl.gov/CMIP5/dataLocation gridspecFile: gridspec_atmos_fx_CCSM4_rcp45_r0i0p0.nc areacella: areacella_fx_CCSM4_rcp45_r0i0p0.nc</MDI>
    <MDI key="tas#cell_methods">time: mean (interval: 30 days)</MDI>
    <MDI key="tas#comment">TREFHT no change</MDI>
    <MDI key="tas#history">2012-05-11T23:20:11Z altered by CMOR: Treated scalar dimension: 'height'. 2012-05-11T23:20:11Z altered by CMOR: Reordered dimensions, original order: lat lon time. 2012-05-11T23:20:11Z altered by CMOR: replaced missing value flag (-1e+32) with standard missing value (1e+20).</MDI>
    <MDI key="tas#long_name">Near-Surface Air Temperature</MDI>
    <MDI key="tas#original_name">TREFHT</MDI>
    <MDI key="tas#standard_name">air_temperature</MDI>
    <MDI key="tas#units">deg C</MDI>
    <MDI key="tas#_FillValue">1e+20</MDI>
    <MDI key="time#axis">T</MDI>
    <MDI key="time#bounds">time_bnds</MDI>
    <MDI key="time#calendar">365_day</MDI>
    <MDI key="time#standard_name">time</MDI>
    <MDI key="time#start_date">2006-01-16 00:00:00 UTC</MDI>
    <MDI key="time#stop_date">2040-12-16 00:00:00 UTC</MDI>
    <MDI key="time#units">days since 2005-01-01 00:00:00</MDI>
  </Metadata>
  <VRTRasterBand dataType="Float32" band="1" blockXSize="1440" blockYSize="1">
    <Metadata>
      <MDI key="associated_files">baseURL: http://cmip-pcmdi.llnl.gov/CMIP5/dataLocation gridspecFile: gridspec_atmos_fx_CCSM4_rcp45_r0i0p0.nc areacella: areacella_fx_CCSM4_rcp45_r0i0p0.nc</MDI>
      <MDI key="cell_methods">time: mean (interval: 30 days)</MDI>
      <MDI key="comment">TREFHT no change</MDI>
      <MDI key="history">2012-05-11T23:20:11Z altered by CMOR: Treated scalar dimension: 'height'. 2012-05-11T23:20:11Z altered by CMOR: Reordered dimensions, original order: lat lon time. 2012-05-11T23:20:11Z altered by CMOR: replaced missing value flag (-1e+32) with standard missing value (1e+20).</MDI>
      <MDI key="long_name">Near-Surface Air Temperature</MDI>
      <MDI key="NETCDF_DIM_time">11146.5</MDI>
      <MDI key="NETCDF_VARNAME">tas</MDI>
      <MDI key="original_name">TREFHT</MDI>
      <MDI key="standard_name">air_temperature</MDI>
      <MDI key="units">deg C</MDI>
      <MDI key="_FillValue">1e+20</MDI>
    </Metadata>
    <NoDataValue>1.00000002004087734e+20</NoDataValue>
    <ComplexSource>
      <SourceFilename relativeToVRT="0">NETCDF:"/lustre/storeB/adc-data/access/awi/atmos025grid/atmos025grid_tas_CCSM4_rcp45_ensmean_2006-2040_monmean.nc":tas</SourceFilename>
      <SourceBand>355</SourceBand>
      <SourceProperties RasterXSize="1440" RasterYSize="160" DataType="Float32" BlockXSize="1440" BlockYSize="1" />
      <SrcRect xOff="0" yOff="0" xSize="1440" ySize="160" />
      <DstRect xOff="0" yOff="0" xSize="1440" ySize="160" />
      <NODATA>1.00000002004087734e+20</NODATA>
    </ComplexSource>
  </VRTRasterBand>
</VRTDataset>
