<VRTDataset rasterXSize="432" rasterYSize="432">
  <SRS dataAxisToSRSAxisMapping="1,2">PROJCS["WGS 84 / NSIDC EASE-Grid 2.0 South",GEOGCS["WGS 84",DATUM["WGS_1984",SPHEROID["WGS 84",6378137,298.257223563,AUTHORITY["EPSG","7030"]],AUTHORITY["EPSG","6326"]],PRIMEM["Greenwich",0,AUTHORITY["EPSG","8901"]],UNIT["degree",0.0174532925199433,AUTHORITY["EPSG","9122"]],AUTHORITY["EPSG","4326"]],PROJECTION["Lambert_Azimuthal_Equal_Area"],PARAMETER["latitude_of_center",-90],PARAMETER["longitude_of_center",0],PARAMETER["false_easting",0],PARAMETER["false_northing",0],UNIT["metre",1,AUTHORITY["EPSG","9001"]],AXIS["Easting",NORTH],AXIS["Northing",NORTH],AUTHORITY["EPSG","6932"]]</SRS>
  <GeoTransform> -5.4000000000000000e+06,  2.5000000000000000e+04,  0.0000000000000000e+00,  5.4000000000000000e+06,  0.0000000000000000e+00, -2.5000000000000000e+04</GeoTransform>
  <Metadata>
    <MDI key="crs#false_easting">0</MDI>
    <MDI key="crs#false_northing">0</MDI>
    <MDI key="crs#grid_mapping_name">lambert_azimuthal_equal_area</MDI>
    <MDI key="crs#inverse_flattening">298.257223563</MDI>
    <MDI key="crs#latitude_of_projection_origin">-90</MDI>
    <MDI key="crs#longitude_of_projection_origin">0</MDI>
    <MDI key="crs#semi_major_axis">6378137</MDI>
    <MDI key="NC_GLOBAL#Conventions">ACDD-1.3, CF-1.8</MDI>
    <MDI key="NC_GLOBAL#creator_email">mabo@norceresearch.no, rori@norceresearch.no</MDI>
    <MDI key="NC_GLOBAL#creator_institution">NORCE Norwegian Research Centre AS, NORCE Norwegian Research Centre AS</MDI>
    <MDI key="NC_GLOBAL#creator_name">Marion Bocquet, Robert Ricker</MDI>
    <MDI key="NC_GLOBAL#creator_type">person, person</MDI>
    <MDI key="NC_GLOBAL#date_created">2026-07-08T09:14:12Z</MDI>
    <MDI key="NC_GLOBAL#geospatial_lat_max">-16.62393</MDI>
    <MDI key="NC_GLOBAL#geospatial_lat_min">-90</MDI>
    <MDI key="NC_GLOBAL#geospatial_lat_units">degrees_north</MDI>
    <MDI key="NC_GLOBAL#geospatial_lon_max">180</MDI>
    <MDI key="NC_GLOBAL#geospatial_lon_min">-180</MDI>
    <MDI key="NC_GLOBAL#geospatial_lon_units">degrees_east</MDI>
    <MDI key="NC_GLOBAL#grid_mapping">EPSG:6932 (EASE2)</MDI>
    <MDI key="NC_GLOBAL#history">Thu Jul  9 10:46:00 2026: ncatted -O -a time_coverage_start,global,o,c,2022-11-09T00:00:00Z -a time_coverage_end,global,o,c,2022-11-09T23:59:59Z ./2022/11/SOSIMBA_MMS-L3-SISNOWDEPTH-ATLAS_ICESAT2_SIRAL_CRYOSAT2_SRAL_SENTINEL3A_SRAL_SENTINEL3B-SH_25KM_EASE2-20221109-fv100.nc
original version</MDI>
    <MDI key="NC_GLOBAL#instrument">SIRAL, SRAL, SRAL, ATLAS</MDI>
    <MDI key="NC_GLOBAL#instrument_vocabulary">WMO OSCAR Space:https://space.oscar.wmo.int/instruments</MDI>
    <MDI key="NC_GLOBAL#keywords">GCMDSK:Earth Science &gt; Cryosphere &gt; Sea Ice &gt; Snow Depth, GCMDSK:Earth Science &gt; Oceans &gt; Sea Ice &gt; Snow Depth, GCMDLOC:Geographic Region &gt; Ocean &gt; Southern Ocean, GCMDPROV:Academic &gt; NORCE</MDI>
    <MDI key="NC_GLOBAL#keywords_vocabulary">GCMDSK:GCMD Science Keywords:https://gcmd.earthdata.nasa.gov/kms/concepts/concept_scheme/sciencekeywords,GCMDLOC:GCMD Locations:https://gcmd.earthdata.nasa.gov/kms/concepts/concept_scheme/locations,GCMDPROV: Data Center/Service Provider: https://gcmd.earthdata.nasa.gov/kms/concepts/concept_scheme/providers</MDI>
    <MDI key="NC_GLOBAL#license">http://spdx.org/licenses/CC-BY-4.0 (CC-BY-4.0)</MDI>
    <MDI key="NC_GLOBAL#NCO">netCDF Operators version 5.0.6 (Homepage = http://nco.sf.net, Code = http://github.com/nco/nco)</MDI>
    <MDI key="NC_GLOBAL#platform">CryoSat-2, Sentinel-3A, Sentinel-3B, ICESat-2</MDI>
    <MDI key="NC_GLOBAL#platform_vocabulary">WMO OSCAR Space:https://space.oscar.wmo.int/satellites</MDI>
    <MDI key="NC_GLOBAL#processing_level">L3C</MDI>
    <MDI key="NC_GLOBAL#project">Southern Ocean Sea Ice Mass Balance Assessment (SO-SIMBA)</MDI>
    <MDI key="NC_GLOBAL#publisher_email">adc-support@met.no</MDI>
    <MDI key="NC_GLOBAL#publisher_institution">Norwegian Meteorological Institute</MDI>
    <MDI key="NC_GLOBAL#publisher_name">Norwegian Meteorological Institute / Arctic Data Centre (NO/MET/ADC) </MDI>
    <MDI key="NC_GLOBAL#publisher_type">institution</MDI>
    <MDI key="NC_GLOBAL#publisher_url">https://adc.met.no</MDI>
    <MDI key="NC_GLOBAL#spatial_resolution">25 km</MDI>
    <MDI key="NC_GLOBAL#summary">The MMS snow depth product, updated monthly, combines data from radar and laser altimetry (CryoSat-2, Sentinel-3, and ICESat-2) and snow depth derived from passive microwave. Snow depth from altimeters is derived by subtracting sea ice freeboard from snow freeboard. A drift-aware module ensures alignment of data across sensors (Ricker et al., 2025). Gridded snow depth is produced by merging and differencing these measurements, using established methods (Kacimi &amp; Kwok, 2020). The MMS snow volume is calculated from the MMS snow depth and sea ice concentrations (SIC) from AMSR-E and AMSR2 using the ASI algorithm (Spreen et al., 2008, https://doi.org/10.1029/2005JC003384). From SIC the area covered by sea ice is calculated for every grid cell and multiplied by the snow depth to obtain sea ice volume per grid cell. The creation of this dataset was funded by ESA Polar Science Cluster project SO-SIMBA.</MDI>
    <MDI key="NC_GLOBAL#time_coverage_end">2022-11-09T23:59:59Z</MDI>
    <MDI key="NC_GLOBAL#time_coverage_start">2022-11-09T00:00:00Z</MDI>
    <MDI key="NC_GLOBAL#title">SO-SIMBA climate data record of snow depth on sea ice from altimeters</MDI>
    <MDI key="NETCDF_DIM_EXTRA">{time}</MDI>
    <MDI key="NETCDF_DIM_time_DEF">{1,4}</MDI>
    <MDI key="NETCDF_DIM_time_VALUES">1667995200</MDI>
    <MDI key="rolling_median_total_freeboard_interp#comment">This total freeboard is the one used to compute : snow_depth </MDI>
    <MDI key="rolling_median_total_freeboard_interp#coordinates">time latitude longitude</MDI>
    <MDI key="rolling_median_total_freeboard_interp#coverage_content_type">auxiliaryInformation</MDI>
    <MDI key="rolling_median_total_freeboard_interp#grid_mapping">crs</MDI>
    <MDI key="rolling_median_total_freeboard_interp#long_name">3-day moving window temporal median of gap-filled total freeboard</MDI>
    <MDI key="rolling_median_total_freeboard_interp#units">m</MDI>
    <MDI key="rolling_median_total_freeboard_interp#_FillValue">nan</MDI>
    <MDI key="time#bounds">time_bnds</MDI>
    <MDI key="time#calendar">standard</MDI>
    <MDI key="time#coverage_content_type">coordinate</MDI>
    <MDI key="time#long_name">time</MDI>
    <MDI key="time#standard_name">time</MDI>
    <MDI key="time#units">seconds since 1970-01-01</MDI>
    <MDI key="xc#coverage_content_type">coordinate</MDI>
    <MDI key="xc#long_name">x coordinate of projection (eastings)</MDI>
    <MDI key="xc#standard_name">projection_x_coordinate</MDI>
    <MDI key="xc#units">m</MDI>
    <MDI key="yc#coverage_content_type">coordinate</MDI>
    <MDI key="yc#long_name">y coordinate of projection (northings)</MDI>
    <MDI key="yc#standard_name">projection_y_coordinate</MDI>
    <MDI key="yc#units">m</MDI>
  </Metadata>
  <Metadata domain="GEOLOCATION">
    <MDI key="GEOREFERENCING_CONVENTION">PIXEL_CENTER</MDI>
    <MDI key="LINE_OFFSET">0</MDI>
    <MDI key="LINE_STEP">1</MDI>
    <MDI key="PIXEL_OFFSET">0</MDI>
    <MDI key="PIXEL_STEP">1</MDI>
    <MDI key="SRS">GEOGCRS["unknown",DATUM["unnamed",ELLIPSOID["Spheroid",6378137,298.257223563,LENGTHUNIT["metre",1,ID["EPSG",9001]]]],PRIMEM["Greenwich",0,ANGLEUNIT["degree",0.0174532925199433,ID["EPSG",9122]]],CS[ellipsoidal,2],AXIS["longitude",east,ORDER[1],ANGLEUNIT["degree",0.0174532925199433,ID["EPSG",9122]]],AXIS["latitude",north,ORDER[2],ANGLEUNIT["degree",0.0174532925199433,ID["EPSG",9122]]]]</MDI>
    <MDI key="X_BAND">1</MDI>
    <MDI key="X_DATASET">NETCDF:"/lustre/storeB/adc-data/SO-SIMBA/SOSIMBA_MMS_SD_vf/2022/11/SOSIMBA_MMS-L3-SISNOWDEPTH-ATLAS_ICESAT2_SIRAL_CRYOSAT2_SRAL_SENTINEL3A_SRAL_SENTINEL3B-SH_25KM_EASE2-20221109-fv100.nc":longitude</MDI>
    <MDI key="Y_BAND">1</MDI>
    <MDI key="Y_DATASET">NETCDF:"/lustre/storeB/adc-data/SO-SIMBA/SOSIMBA_MMS_SD_vf/2022/11/SOSIMBA_MMS-L3-SISNOWDEPTH-ATLAS_ICESAT2_SIRAL_CRYOSAT2_SRAL_SENTINEL3A_SRAL_SENTINEL3B-SH_25KM_EASE2-20221109-fv100.nc":latitude</MDI>
  </Metadata>
  <VRTRasterBand dataType="Float32" band="1" blockXSize="432" blockYSize="432">
    <Metadata>
      <MDI key="comment">This total freeboard is the one used to compute : snow_depth </MDI>
      <MDI key="coordinates">time latitude longitude</MDI>
      <MDI key="coverage_content_type">auxiliaryInformation</MDI>
      <MDI key="grid_mapping">crs</MDI>
      <MDI key="long_name">3-day moving window temporal median of gap-filled total freeboard</MDI>
      <MDI key="NETCDF_DIM_time">1667995200</MDI>
      <MDI key="NETCDF_VARNAME">rolling_median_total_freeboard_interp</MDI>
      <MDI key="units">m</MDI>
      <MDI key="_FillValue">nan</MDI>
    </Metadata>
    <NoDataValue>nan</NoDataValue>
    <ComplexSource>
      <SourceFilename relativeToVRT="0">NETCDF:"/lustre/storeB/adc-data/SO-SIMBA/SOSIMBA_MMS_SD_vf/2022/11/SOSIMBA_MMS-L3-SISNOWDEPTH-ATLAS_ICESAT2_SIRAL_CRYOSAT2_SRAL_SENTINEL3A_SRAL_SENTINEL3B-SH_25KM_EASE2-20221109-fv100.nc":rolling_median_total_freeboard_interp</SourceFilename>
      <SourceBand>1</SourceBand>
      <SourceProperties RasterXSize="432" RasterYSize="432" DataType="Float32" BlockXSize="432" BlockYSize="432" />
      <SrcRect xOff="0" yOff="0" xSize="432" ySize="432" />
      <DstRect xOff="0" yOff="0" xSize="432" ySize="432" />
      <NODATA>nan</NODATA>
    </ComplexSource>
  </VRTRasterBand>
</VRTDataset>
