<VRTDataset rasterXSize="1440" rasterYSize="160">
  <SRS dataAxisToSRSAxisMapping="2,1">GEOGCS["WGS 84",DATUM["WGS_1984",SPHEROID["WGS 84",6378137,298.257223563,AUTHORITY["EPSG","7030"]],AUTHORITY["EPSG","6326"]],PRIMEM["Greenwich",0,AUTHORITY["EPSG","8901"]],UNIT["degree",0.0174532925199433,AUTHORITY["EPSG","9122"]],AXIS["Latitude",NORTH],AXIS["Longitude",EAST],AUTHORITY["EPSG","4326"]]</SRS>
  <GeoTransform> -1.2500000000000000e-01,  2.5000000000000000e-01,  0.0000000000000000e+00,  4.9875000000000000e+01,  0.0000000000000000e+00,  2.5000000000000000e-01</GeoTransform>
  <Metadata>
    <MDI key="lat#axis">Y</MDI>
    <MDI key="lat#long_name">latitude</MDI>
    <MDI key="lat#standard_name">latitude</MDI>
    <MDI key="lat#units">degrees_north</MDI>
    <MDI key="lon#axis">X</MDI>
    <MDI key="lon#easternmost_longitude">359.75</MDI>
    <MDI key="lon#long_name">longitude</MDI>
    <MDI key="lon#standard_name">longitude</MDI>
    <MDI key="lon#units">degrees_east</MDI>
    <MDI key="lon#westernmost_longitude">0</MDI>
    <MDI key="NC_GLOBAL#abstract">These CMIP5 model data show interpolated results in Arctic only. Original data were cut and interpolated for internal use of the EU funded project ACCESS.</MDI>
    <MDI key="NC_GLOBAL#activity_type">Model run</MDI>
    <MDI key="NC_GLOBAL#area">Arctic Ocean</MDI>
    <MDI key="NC_GLOBAL#branch_time">56940</MDI>
    <MDI key="NC_GLOBAL#CDI">Climate Data Interface version 1.5.4 (http://code.zmaw.de/projects/cdi)</MDI>
    <MDI key="NC_GLOBAL#CDO">Climate Data Operators version 1.5.4 (http://code.zmaw.de/projects/cdo)</MDI>
    <MDI key="NC_GLOBAL#cmor_version">2.7.1</MDI>
    <MDI key="NC_GLOBAL#contact">Please send any requests or bug reports to noresm-ncc@met.no.</MDI>
    <MDI key="NC_GLOBAL#Conventions">CF-1.4</MDI>
    <MDI key="NC_GLOBAL#creation_date">2012-03-08T21:44:12Z</MDI>
    <MDI key="NC_GLOBAL#distribution_statement">Restricted to ACCESS</MDI>
    <MDI key="NC_GLOBAL#easternmost_longitude">180</MDI>
    <MDI key="NC_GLOBAL#experiment">RCP4.5</MDI>
    <MDI key="NC_GLOBAL#experiment_id">rcp45</MDI>
    <MDI key="NC_GLOBAL#forcing">GHG, SA, Oz, Sl, BC, OC</MDI>
    <MDI key="NC_GLOBAL#frequency">mon</MDI>
    <MDI key="NC_GLOBAL#gcmd_keywords">NEAR SURFACE ATMOSPHERIC TEMPERATURE</MDI>
    <MDI key="NC_GLOBAL#history">2014-04-01 creation</MDI>
    <MDI key="NC_GLOBAL#initialization_method">1</MDI>
    <MDI key="NC_GLOBAL#institute_id">NCC</MDI>
    <MDI key="NC_GLOBAL#institution">Norwegian Climate Centre</MDI>
    <MDI key="NC_GLOBAL#keywords">Arctic near surface air temperature</MDI>
    <MDI key="NC_GLOBAL#modeling_realm">atmos</MDI>
    <MDI key="NC_GLOBAL#model_id">NorESM1-ME</MDI>
    <MDI key="NC_GLOBAL#northernmost_latitude">89.75</MDI>
    <MDI key="NC_GLOBAL#parent_experiment">historical</MDI>
    <MDI key="NC_GLOBAL#parent_experiment_id">historical</MDI>
    <MDI key="NC_GLOBAL#parent_experiment_rip">r1i1p1</MDI>
    <MDI key="NC_GLOBAL#physics_version">1</MDI>
    <MDI key="NC_GLOBAL#PI_name">Kathrin Riemann-Campe</MDI>
    <MDI key="NC_GLOBAL#product">output</MDI>
    <MDI key="NC_GLOBAL#product_name">monthly mean near surface air temperature</MDI>
    <MDI key="NC_GLOBAL#project_id">CMIP5</MDI>
    <MDI key="NC_GLOBAL#project_name">ACCESS</MDI>
    <MDI key="NC_GLOBAL#realization">1</MDI>
    <MDI key="NC_GLOBAL#southernmost_latitude">50</MDI>
    <MDI key="NC_GLOBAL#start_date">2006-01-16 00:00:00 UTC</MDI>
    <MDI key="NC_GLOBAL#stop_date">2040-12-16 00:00:00 UTC</MDI>
    <MDI key="NC_GLOBAL#table_id">Table Amon (01 February 2012) 81f919710c21dca8a1753166d5bac090</MDI>
    <MDI key="NC_GLOBAL#title">NorESM1-ME model output prepared for CMIP5 RCP4.5</MDI>
    <MDI key="NC_GLOBAL#topiccategory">ClimatologyMeteorologyAtmosphere</MDI>
    <MDI key="NC_GLOBAL#tracking_id">77001aef-9599-454f-a36e-511dc2e1301d</MDI>
    <MDI key="NC_GLOBAL#westernmost_longitude">-180</MDI>
    <MDI key="NETCDF_DIM_EXTRA">{time}</MDI>
    <MDI key="NETCDF_DIM_time_DEF">{420,6}</MDI>
    <MDI key="tas#associated_files">baseURL: http://cmip-pcmdi.llnl.gov/CMIP5/dataLocation gridspecFile: gridspec_atmos_fx_NorESM1-ME_rcp45_r0i0p0.nc areacella: areacella_fx_NorESM1-ME_rcp45_r0i0p0.nc</MDI>
    <MDI key="tas#cell_methods">time: mean</MDI>
    <MDI key="tas#history">2012-03-08T21:44:12Z altered by CMOR: Treated scalar dimension: 'height'. 2012-03-08T21:44:12Z altered by CMOR: replaced missing value flag (1e+20) with standard missing value (1e+20). 2012-03-08T21:44:12Z altered by CMOR: Converted type from 'd' to 'f'.</MDI>
    <MDI key="tas#long_name">Near-Surface Air Temperature</MDI>
    <MDI key="tas#original_name">TREFHT</MDI>
    <MDI key="tas#standard_name">air_temperature</MDI>
    <MDI key="tas#units">deg C</MDI>
    <MDI key="tas#_FillValue">1e+20</MDI>
    <MDI key="time#axis">T</MDI>
    <MDI key="time#bounds">time_bnds</MDI>
    <MDI key="time#calendar">365_day</MDI>
    <MDI key="time#standard_name">time</MDI>
    <MDI key="time#start_date">2006-01-16 00:00:00 UTC</MDI>
    <MDI key="time#stop_date">2040-12-16 00:00:00 UTC</MDI>
    <MDI key="time#units">days since 2006-01-01 00:00:00</MDI>
  </Metadata>
  <VRTRasterBand dataType="Float32" band="1" blockXSize="1440" blockYSize="1">
    <Metadata>
      <MDI key="associated_files">baseURL: http://cmip-pcmdi.llnl.gov/CMIP5/dataLocation gridspecFile: gridspec_atmos_fx_NorESM1-ME_rcp45_r0i0p0.nc areacella: areacella_fx_NorESM1-ME_rcp45_r0i0p0.nc</MDI>
      <MDI key="cell_methods">time: mean</MDI>
      <MDI key="history">2012-03-08T21:44:12Z altered by CMOR: Treated scalar dimension: 'height'. 2012-03-08T21:44:12Z altered by CMOR: replaced missing value flag (1e+20) with standard missing value (1e+20). 2012-03-08T21:44:12Z altered by CMOR: Converted type from 'd' to 'f'.</MDI>
      <MDI key="long_name">Near-Surface Air Temperature</MDI>
      <MDI key="NETCDF_DIM_time">5914.5</MDI>
      <MDI key="NETCDF_VARNAME">tas</MDI>
      <MDI key="original_name">TREFHT</MDI>
      <MDI key="standard_name">air_temperature</MDI>
      <MDI key="units">deg C</MDI>
      <MDI key="_FillValue">1e+20</MDI>
    </Metadata>
    <NoDataValue>1.00000002004087734e+20</NoDataValue>
    <ComplexSource>
      <SourceFilename relativeToVRT="0">NETCDF:"/lustre/storeB/adc-data/access/awi/atmos025grid/atmos025grid_tas_NorESM1-ME_rcp45_r1i1p1_2006-2040_monmean.nc":tas</SourceFilename>
      <SourceBand>195</SourceBand>
      <SourceProperties RasterXSize="1440" RasterYSize="160" DataType="Float32" BlockXSize="1440" BlockYSize="1" />
      <SrcRect xOff="0" yOff="0" xSize="1440" ySize="160" />
      <DstRect xOff="0" yOff="0" xSize="1440" ySize="160" />
      <NODATA>1.00000002004087734e+20</NODATA>
    </ComplexSource>
  </VRTRasterBand>
</VRTDataset>
