<VRTDataset rasterXSize="119" rasterYSize="177">
  <SRS dataAxisToSRSAxisMapping="1,2">PROJCS["NSIDC Sea Ice Polar Stereographic North",GEOGCS["Hughes 1980",DATUM["Hughes_1980",SPHEROID["Hughes 1980",6378273,298.279411123064,AUTHORITY["EPSG","7058"]],AUTHORITY["EPSG","1359"]],PRIMEM["Greenwich",0,AUTHORITY["EPSG","8901"]],UNIT["degree",0.0174532925199433,AUTHORITY["EPSG","9122"]],AUTHORITY["EPSG","10345"]],PROJECTION["Polar_Stereographic"],PARAMETER["latitude_of_origin",70],PARAMETER["central_meridian",-45],PARAMETER["false_easting",0],PARAMETER["false_northing",0],UNIT["metre",1,AUTHORITY["EPSG","9001"]],AXIS["Easting",SOUTH],AXIS["Northing",SOUTH],AUTHORITY["EPSG","3411"]]</SRS>
  <GeoTransform> -3.7812500000000000e+06,  6.2500000000000000e+04,  0.0000000000000000e+00,  5.7812500000000000e+06,  0.0000000000000000e+00, -6.2500000000000000e+04</GeoTransform>
  <Metadata>
    <MDI key="NC_GLOBAL#activity_type">Space Borne Instrument</MDI>
    <MDI key="NC_GLOBAL#Conventions">CF-1.7, ACDD-1.3</MDI>
    <MDI key="NC_GLOBAL#creator_email">thomas.lavergne@met.no</MDI>
    <MDI key="NC_GLOBAL#creator_institution">Norwegian Meteorological Institute</MDI>
    <MDI key="NC_GLOBAL#creator_name">Thomas Lavergne</MDI>
    <MDI key="NC_GLOBAL#creator_type">person</MDI>
    <MDI key="NC_GLOBAL#creator_url">https://orcid.org/0000-0002-9498-4551</MDI>
    <MDI key="NC_GLOBAL#date_created">2020-10-31T22:12:29.921640</MDI>
    <MDI key="NC_GLOBAL#end_date_and_time">2019-11-28T12:00:00Z</MDI>
    <MDI key="NC_GLOBAL#geospatial_lat_max">90</MDI>
    <MDI key="NC_GLOBAL#geospatial_lat_min">31.961086</MDI>
    <MDI key="NC_GLOBAL#geospatial_lon_max">180</MDI>
    <MDI key="NC_GLOBAL#geospatial_lon_min">-180</MDI>
    <MDI key="NC_GLOBAL#history">2020-03-29T09:14:35 processed
2020-10-31T22:12:29.921307 reformatted</MDI>
    <MDI key="NC_GLOBAL#institution">Norwegian Meteorological Institute</MDI>
    <MDI key="NC_GLOBAL#instrument">amsr2</MDI>
    <MDI key="NC_GLOBAL#keywords">Cryosphere &gt; Sea Ice &gt; Sea Ice Motion,Oceans &gt; Sea Ice &gt; Sea Ice Motion,Geographic Region &gt; Northern Hemisphere</MDI>
    <MDI key="NC_GLOBAL#keywords_vocabulary">GCMD</MDI>
    <MDI key="NC_GLOBAL#naming_authority">no.met</MDI>
    <MDI key="NC_GLOBAL#platform">gw1</MDI>
    <MDI key="NC_GLOBAL#project">ESA CIMR MRC, ESA CCI Sea Ice Phase 2</MDI>
    <MDI key="NC_GLOBAL#publisher_email">post@met.no</MDI>
    <MDI key="NC_GLOBAL#publisher_name">Norwegian Meteorological Institute</MDI>
    <MDI key="NC_GLOBAL#publisher_type">institution</MDI>
    <MDI key="NC_GLOBAL#publisher_url">met.no</MDI>
    <MDI key="NC_GLOBAL#references">&lt;doi TCD&gt;</MDI>
    <MDI key="NC_GLOBAL#source">DM (daily-maps) ice drift vectors from GCOM-W1 AMSR2 36.5 GHz imagery (using CMCC motion tracking)</MDI>
    <MDI key="NC_GLOBAL#start_date_and_time">2019-11-27T12:00:00Z</MDI>
    <MDI key="NC_GLOBAL#summary">Underlying dataset for the Lavergne et al. (2020) manuscript in EGU The Cryosphere Discussion. Processed from GCOM-W1 AMSR2 36.5 GHz (Ka-band) imagery. See the manuscript for more details.</MDI>
    <MDI key="NC_GLOBAL#time_coverage_end">2019-11-28T12:00:00Z</MDI>
    <MDI key="NC_GLOBAL#time_coverage_start">2019-11-27T12:00:00Z</MDI>
    <MDI key="NC_GLOBAL#title">Arctic sea-ice drift vectors using a DM (daily-maps) approach.</MDI>
    <MDI key="NETCDF_DIM_EXTRA">{time}</MDI>
    <MDI key="NETCDF_DIM_time_DEF">{1,6}</MDI>
    <MDI key="NETCDF_DIM_time_VALUES">1574942400</MDI>
    <MDI key="Polar_Stereographic_Grid#false_easting">0</MDI>
    <MDI key="Polar_Stereographic_Grid#false_northing">0</MDI>
    <MDI key="Polar_Stereographic_Grid#grid_mapping_name">polar_stereographic</MDI>
    <MDI key="Polar_Stereographic_Grid#latitude_of_projection_origin">90</MDI>
    <MDI key="Polar_Stereographic_Grid#proj4_string">+proj=stere +a=6378273 +b=6356889.44891 +lat_0=90 +lat_ts=70 +lon_0=-45</MDI>
    <MDI key="Polar_Stereographic_Grid#semi_major_axis">6378273</MDI>
    <MDI key="Polar_Stereographic_Grid#semi_minor_axis">6356889.5</MDI>
    <MDI key="Polar_Stereographic_Grid#standard_parallel">70</MDI>
    <MDI key="Polar_Stereographic_Grid#straight_vertical_longitude_from_pole">-45</MDI>
    <MDI key="t1#coordinates">lat lon</MDI>
    <MDI key="t1#grid_mapping">Polar_Stereographic_Grid</MDI>
    <MDI key="t1#long_name">time of end pixel</MDI>
    <MDI key="t1#units">seconds since 2019-11-28T12:00:00Z</MDI>
    <MDI key="t1#_FillValue">2147483647</MDI>
    <MDI key="time#axis">T</MDI>
    <MDI key="time#bounds">time_bnds</MDI>
    <MDI key="time#calendar">standard</MDI>
    <MDI key="time#long_name">reference time of product</MDI>
    <MDI key="time#standard_name">time</MDI>
    <MDI key="time#units">seconds since 1970-01-01 00:00:00</MDI>
    <MDI key="xc#axis">X</MDI>
    <MDI key="xc#long_name">x coordinate of projection (eastings)</MDI>
    <MDI key="xc#standard_name">projection_x_coordinate</MDI>
    <MDI key="yc#axis">Y</MDI>
    <MDI key="yc#long_name">y coordinate of projection (northings)</MDI>
    <MDI key="yc#standard_name">projection_y_coordinate</MDI>
  </Metadata>
  <Metadata domain="GEOLOCATION">
    <MDI key="GEOREFERENCING_CONVENTION">PIXEL_CENTER</MDI>
    <MDI key="LINE_OFFSET">0</MDI>
    <MDI key="LINE_STEP">1</MDI>
    <MDI key="PIXEL_OFFSET">0</MDI>
    <MDI key="PIXEL_STEP">1</MDI>
    <MDI key="SRS">GEOGCRS["unknown",DATUM["unnamed",ELLIPSOID["Spheroid",6378273,298.280122524376,LENGTHUNIT["metre",1,ID["EPSG",9001]]]],PRIMEM["Greenwich",0,ANGLEUNIT["degree",0.0174532925199433,ID["EPSG",9122]]],CS[ellipsoidal,2],AXIS["longitude",east,ORDER[1],ANGLEUNIT["degree",0.0174532925199433,ID["EPSG",9122]]],AXIS["latitude",north,ORDER[2],ANGLEUNIT["degree",0.0174532925199433,ID["EPSG",9122]]]]</MDI>
    <MDI key="X_BAND">1</MDI>
    <MDI key="X_DATASET">NETCDF:"/lustre/storeB/adc-data/papers/S2S_drift_TCD/SIDRIFT_DM_NH/2019/11/28/icedrift_amsr2-gw1_tb37v-LapAtb37h-Lap_simplex_lev2_nh625_2019112712w_2019112812w.nc":lon</MDI>
    <MDI key="Y_BAND">1</MDI>
    <MDI key="Y_DATASET">NETCDF:"/lustre/storeB/adc-data/papers/S2S_drift_TCD/SIDRIFT_DM_NH/2019/11/28/icedrift_amsr2-gw1_tb37v-LapAtb37h-Lap_simplex_lev2_nh625_2019112712w_2019112812w.nc":lat</MDI>
  </Metadata>
  <VRTRasterBand dataType="Float32" band="1" blockYSize="1">
    <Metadata>
      <MDI key="coordinates">lat lon</MDI>
      <MDI key="grid_mapping">Polar_Stereographic_Grid</MDI>
      <MDI key="long_name">time of end pixel</MDI>
      <MDI key="NETCDF_DIM_time">1574942400</MDI>
      <MDI key="NETCDF_VARNAME">t1</MDI>
      <MDI key="units">seconds since 2019-11-28T12:00:00Z</MDI>
      <MDI key="_FillValue">2147483647</MDI>
    </Metadata>
    <NoDataValue>2147483647</NoDataValue>
    <ComplexSource>
      <SourceFilename relativeToVRT="0">NETCDF:"/lustre/storeB/adc-data/papers/S2S_drift_TCD/SIDRIFT_DM_NH/2019/11/28/icedrift_amsr2-gw1_tb37v-LapAtb37h-Lap_simplex_lev2_nh625_2019112712w_2019112812w.nc":t1</SourceFilename>
      <SourceBand>1</SourceBand>
      <SourceProperties RasterXSize="119" RasterYSize="177" DataType="Int32" BlockXSize="119" BlockYSize="1" />
      <SrcRect xOff="0" yOff="0" xSize="119" ySize="177" />
      <DstRect xOff="0" yOff="0" xSize="119" ySize="177" />
      <NODATA>2147483647</NODATA>
    </ComplexSource>
  </VRTRasterBand>
</VRTDataset>
