<VRTDataset rasterXSize="13630" rasterYSize="13436">
  <SRS dataAxisToSRSAxisMapping="2,1">PROJCS["WGS 84 / UPS North (N,E)",GEOGCS["WGS 84",DATUM["WGS_1984",SPHEROID["WGS 84",6378137,298.257223563,AUTHORITY["EPSG","7030"]],AUTHORITY["EPSG","6326"]],PRIMEM["Greenwich",0,AUTHORITY["EPSG","8901"]],UNIT["degree",0.0174532925199433,AUTHORITY["EPSG","9122"]],AUTHORITY["EPSG","4326"]],PROJECTION["Polar_Stereographic"],PARAMETER["latitude_of_origin",90],PARAMETER["central_meridian",0],PARAMETER["scale_factor",0.994],PARAMETER["false_easting",2000000],PARAMETER["false_northing",2000000],UNIT["metre",1,AUTHORITY["EPSG","9001"]],AXIS["Northing",SOUTH],AXIS["Easting",SOUTH],AUTHORITY["EPSG","32661"]]</SRS>
  <GeoTransform>  1.8275788373182283e+06,  4.0000000000000000e+01,  0.0000000000000000e+00,  1.2573176583300501e+06,  0.0000000000000000e+00, -4.0000000000000000e+01</GeoTransform>
  <Metadata>
    <MDI key="AREA_OR_POINT">Area</MDI>
  </Metadata>
  <Metadata domain="IMAGE_STRUCTURE">
    <MDI key="INTERLEAVE">PIXEL</MDI>
    <MDI key="COMPRESSION">JPEG</MDI>
  </Metadata>
  <VRTRasterBand dataType="Byte" band="1" blockXSize="256" blockYSize="256">
    <Metadata>
      <MDI key="STATISTICS_APPROXIMATE">YES</MDI>
      <MDI key="STATISTICS_MAXIMUM">255</MDI>
      <MDI key="STATISTICS_MEAN">38.208291411542</MDI>
      <MDI key="STATISTICS_MINIMUM">0</MDI>
      <MDI key="STATISTICS_STDDEV">26.698322622675</MDI>
      <MDI key="STATISTICS_VALID_PERCENT">58.33</MDI>
    </Metadata>
    <ColorInterp>Gray</ColorInterp>
    <SimpleSource>
      <SourceFilename relativeToVRT="1">0ffd053da07b_amplitude_hh.tiff</SourceFilename>
      <SourceBand>1</SourceBand>
      <SourceProperties RasterXSize="13630" RasterYSize="13436" DataType="Byte" BlockXSize="256" BlockYSize="256" />
      <SrcRect xOff="0" yOff="0" xSize="13630" ySize="13436" />
      <DstRect xOff="0" yOff="0" xSize="13630" ySize="13436" />
    </SimpleSource>
  </VRTRasterBand>
</VRTDataset>
