<VRTDataset rasterXSize="10980" rasterYSize="10980">
  <SRS dataAxisToSRSAxisMapping="1,2">PROJCS["WGS 84 / UTM zone 35N",GEOGCS["WGS 84",DATUM["WGS_1984",SPHEROID["WGS 84",6378137,298.257223563,AUTHORITY["EPSG","7030"]],AUTHORITY["EPSG","6326"]],PRIMEM["Greenwich",0,AUTHORITY["EPSG","8901"]],UNIT["degree",0.0174532925199433,AUTHORITY["EPSG","9122"]],AUTHORITY["EPSG","4326"]],PROJECTION["Transverse_Mercator"],PARAMETER["latitude_of_origin",0],PARAMETER["central_meridian",27],PARAMETER["scale_factor",0.9996],PARAMETER["false_easting",500000],PARAMETER["false_northing",0],UNIT["metre",1,AUTHORITY["EPSG","9001"]],AXIS["Easting",EAST],AXIS["Northing",NORTH],AUTHORITY["EPSG","32635"]]</SRS>
  <GeoTransform>  3.9996000000000000e+05,  1.0000000000000000e+01,  0.0000000000000000e+00,  8.7000000000000000e+06,  0.0000000000000000e+00, -1.0000000000000000e+01</GeoTransform>
  <Metadata>
    <MDI key="AREA_OR_POINT">Area</MDI>
  </Metadata>
  <Metadata domain="IMAGE_STRUCTURE">
    <MDI key="INTERLEAVE">PIXEL</MDI>
    <MDI key="COMPRESSION">JPEG</MDI>
  </Metadata>
  <VRTRasterBand dataType="Byte" band="1" blockXSize="256" blockYSize="256">
    <Metadata>
      <MDI key="STATISTICS_APPROXIMATE">YES</MDI>
      <MDI key="STATISTICS_MAXIMUM">255</MDI>
      <MDI key="STATISTICS_MEAN">129.10166090558</MDI>
      <MDI key="STATISTICS_MINIMUM">0</MDI>
      <MDI key="STATISTICS_STDDEV">70.276098307951</MDI>
      <MDI key="STATISTICS_VALID_PERCENT">39.6</MDI>
    </Metadata>
    <ColorInterp>Red</ColorInterp>
    <SimpleSource>
      <SourceFilename relativeToVRT="1">317140f5158e_false_color_vegetation.tiff</SourceFilename>
      <SourceBand>1</SourceBand>
      <SourceProperties RasterXSize="10980" RasterYSize="10980" DataType="Byte" BlockXSize="256" BlockYSize="256" />
      <SrcRect xOff="0" yOff="0" xSize="10980" ySize="10980" />
      <DstRect xOff="0" yOff="0" xSize="10980" ySize="10980" />
    </SimpleSource>
  </VRTRasterBand>
</VRTDataset>
